BEGIN:VCALENDAR
VERSION:2.0
PRODID:-//Dekanat Heilbronn-Neckarsulm - ECPv6.15.20//NONSGML v1.0//EN
CALSCALE:GREGORIAN
METHOD:PUBLISH
X-ORIGINAL-URL:https://dekanat-heilbronn-neckarsulm.de
X-WR-CALDESC:Veranstaltungen für Dekanat Heilbronn-Neckarsulm
REFRESH-INTERVAL;VALUE=DURATION:PT1H
X-Robots-Tag:noindex
X-PUBLISHED-TTL:PT1H
BEGIN:VTIMEZONE
TZID:Europe/Berlin
BEGIN:DAYLIGHT
TZOFFSETFROM:+0100
TZOFFSETTO:+0200
TZNAME:CEST
DTSTART:20240331T010000
END:DAYLIGHT
BEGIN:STANDARD
TZOFFSETFROM:+0200
TZOFFSETTO:+0100
TZNAME:CET
DTSTART:20241027T010000
END:STANDARD
BEGIN:DAYLIGHT
TZOFFSETFROM:+0100
TZOFFSETTO:+0200
TZNAME:CEST
DTSTART:20250330T010000
END:DAYLIGHT
BEGIN:STANDARD
TZOFFSETFROM:+0200
TZOFFSETTO:+0100
TZNAME:CET
DTSTART:20251026T010000
END:STANDARD
BEGIN:DAYLIGHT
TZOFFSETFROM:+0100
TZOFFSETTO:+0200
TZNAME:CEST
DTSTART:20260329T010000
END:DAYLIGHT
BEGIN:STANDARD
TZOFFSETFROM:+0200
TZOFFSETTO:+0100
TZNAME:CET
DTSTART:20261025T010000
END:STANDARD
END:VTIMEZONE
BEGIN:VEVENT
DTSTART;VALUE=DATE:20250924
DTEND;VALUE=DATE:20251127
DTSTAMP:20260420T145531
CREATED:20250627T113941Z
LAST-MODIFIED:20250627T114018Z
UID:16866-1758672000-1764201599@dekanat-heilbronn-neckarsulm.de
SUMMARY:Basiskurs Seelsorge
DESCRIPTION:Der Basiskurs Seelsorge ist ein neues digitales Angebot für alle\, die ihr Christsein im Alltag mit ihren Lieblingsmenschen\, aber auch in beruflichen\, ehrenamtlichen und zufälligen Begegnungen und Beziehungen leben wollen. \nWeitere Informationen und Termine sowie Informationen zum Selbstlernkurs: https://an-vielen-orten.de/basiskurs-seelsorge.html \nDer Basiskurs Seelsorge wurde von Dr. Christiane Bundschuh-Schramm in Zusammenarbeit mit qualifizierten Seelsorger:innen und Therapeut:innen entwickelt. \nBegleiteter Basiskurs Seelsorge\nBegleitet heißt: Es gibt einen gemeinsamen Start als Videokonferenz\, die individuelle Arbeit mit der Lernplattform wird durch weitere Videokonferenzen begleitet\, und dann folgt ein Präsenztag zum gemeinsamen Üben. Beim Präsenztag erleben die Teilnehmenden\, dass sie schon viel gelernt haben. Zum Schluss gibt es noch eine Videokonferenz für Rückblick und Ausblick. \nBegleiteter Basiskurs in der Region Nord-Ost 2025 \n\nStart: Mittwoch\, 24. September 2025 – 19.30 Uhr – 21.00 Uhr (online)\nIndividuelles Arbeiten mit der Lernplattform ab 25. September 2025\nBegleitende Videokonferenzen\, jeweils 19.30-20.30 Uhr\nDonnerstag\, 16. Oktober; Mittwoch\, 5. November; Mittwoch\, 12. November 2025 (online)\nPräsenztag auf dem Schönenberg: Samstag\, 15. November 2025 – 10.00 Uhr – 17.00 Uhr\nAbschluss: Mittwoch\, 26. November – 19.30 Uhr – 21.00 Uhr (online)\nRückfragen an: basiskursseelsorge@drs.de\n\nDie Anmeldung ist ab sofort möglich\, den Flyer zur Anmeldung finden Sie hier:\nWerbekarte mit digitaler Anmeldemöglichkeit Basiskurs Seelsorge 2025 Region Nord-Ost  \n\n\n\n\n\n 
URL:https://dekanat-heilbronn-neckarsulm.de/veranstaltung/basiskurs-seelsorge/
CATEGORIES:Bildungsangebote,Ehrenamtliche,Frauen,Männer,Online-Formate, Digitales,Seelsorge,Senioren
END:VEVENT
BEGIN:VEVENT
DTSTART;VALUE=DATE:20250926
DTEND;VALUE=DATE:20251115
DTSTAMP:20260420T145531
CREATED:20241212T082322Z
LAST-MODIFIED:20250410T061132Z
UID:14999-1758844800-1763164799@dekanat-heilbronn-neckarsulm.de
SUMMARY:GEIST BEWEGT - Firmvorbereitung online
DESCRIPTION:Jetzt ist ein guter Zeitpunkt für mich!\nMein Leben ist gerade so\,\ndass ich mich stärken lassen will!\nIm Augenblick passt es und\nich möchte mich firmen lassen! \nHast du Lust dich mit Gleichgesinnten auf den Weg zu machen? Passt eine Online Vorbereitung am besten in deinen Zeitplan? Wir haben das passende Angebot für dich. Du brauchst Interesse und Lust und Zeit an allen drei Vorbereitungsterminen sowie am Firmtermin. \nVorbereitungstermine online\nImmer dienstags\n30.9.\, 7.10. und 14.10.2025\njeweils 19 – 21 Uhr \nNach deiner Anmeldung kontaktieren wir dich für ein digitales Kennenlerngespräch\, bei dem auch all deine Fragen geklärt werden können. Zunächst meldest du dich für die Vorbereitung an\, die Anmeldung zum Firmtermin geschieht\, wenn du möchtest\, in einem zweiten Schritt. \nWeitere Informationen und Anmeldung: www.ebfr.de/erwachsenenfirmung. Flyer zum Download: Link \nAnmeldeschluss: 26.09.2025 online hier. \nFirmtermin\n25.10.25 – Freiburg\n09.11.25 – Speyer\n14.11.25 – Stuttgart \nLaura Müller\, Tanja Rieger und Christiane Bundschuh-Schramm\n\nEine Kooperation der Bistümer\nFreiburg\, Speyer und Rottenburg-Stuttgart\n\n\n\n\n\n\n\n 
URL:https://dekanat-heilbronn-neckarsulm.de/veranstaltung/2025_firmvorbereitung-online/
CATEGORIES:Junge_Erwachsene,Sakramente
ATTACH;FMTTYPE=image/png:https://dekanat-heilbronn-neckarsulm.de/wp-content/uploads/2024/03/geist-bewegt_erwachsenenfirmung.png
END:VEVENT
BEGIN:VEVENT
DTSTART;VALUE=DATE:20251017
DTEND;VALUE=DATE:20251020
DTSTAMP:20260420T145531
CREATED:20250218T142453Z
LAST-MODIFIED:20250325T123720Z
UID:15454-1760659200-1760918399@dekanat-heilbronn-neckarsulm.de
SUMMARY:Du fehlst mir! - Das Wochenende
DESCRIPTION:Du trauerst um einen nahestehenden Menschen? Du hast Interesse\, dich mit anderen jungen Menschen (18-35 Jahre) auszutauschen? \nAn diesem Wochenende hast du die Möglichkeit\, dir und deiner Trauer Zeit zu geben: Zeit für dich\, deine Gedanken\, den Austausch in der Gruppe\, für Erinnerungen\, Kreatives und Zeit\, um dir etwas Gutes zu tun. Es spielt dabei keine Rolle\, wie lange der Todesfall zurückliegt. \nBegleitet werden die jungen Erwachsenen von einem erfahrenen Team. Sie versprechen den Teilnehmer/innen\, dass es neben gutem Essen auch viele Gut-Tu-Zeiten geben wird\, in denen man die Seele baumeln lassen und Kraft tanken kann. \n \nFreitag\, 17.10. 17 Uhr bis Sonntag\, 19.10. 14 Uhr\nKultur- und Tagungshaus Zwickmühle\, Bretzfeld-Rappach\nReferent/in: Johanna Schwarz (Dipl. Psychologin)\, Michael Friedmann (Seelsorger & Trauerbegleiter)\, Eva Sorg (Klinikseelsorgerin)\nKosten: € 120\,- (inkl. Unterkunft und Verpflegung\, Reduzierung möglich\, Anmeldungen nach dem 12.6.25 kosten €10 mehr.)\nInformation und Anmeldung: Johanna Schwarz\, Tel. 0160 3408062\, Michael Friedmann\, Tel. 0179 9926545\, E-Mail: dufehlstmir@hospiz-ludwigsburg.de\, INSTAGRAM: @dufehlstmir.lb \nWeitere Informationen und Anmeldung: Du fehlst mir – Das Wochenende 2025 – Flyer \nhttps://keb-ludwigsburg.de/252-060599
URL:https://dekanat-heilbronn-neckarsulm.de/veranstaltung/du-fehlst-mir-das-wochenende/
CATEGORIES:Junge_Erwachsene,Trauer
END:VEVENT
BEGIN:VEVENT
DTSTART;VALUE=DATE:20251017
DTEND;VALUE=DATE:20251020
DTSTAMP:20260420T145531
CREATED:20240917T105705Z
LAST-MODIFIED:20250722T124103Z
UID:14286-1760659200-1760918399@dekanat-heilbronn-neckarsulm.de
SUMMARY:D.I.Y-Kreativwochenende
DESCRIPTION:Alles Infos und Anmeldung: https://ludwigsburg-und-muehlacker.bdkj.info/diy-wochenende
URL:https://dekanat-heilbronn-neckarsulm.de/veranstaltung/d-i-y-kreativwochenende/
LOCATION:Haus Haigern\, Haigern 3\, Talheim\, 74388
CATEGORIES:Jugendreferat,Junge_Erwachsene,Kreatives
ATTACH;FMTTYPE=image/png:https://dekanat-heilbronn-neckarsulm.de/wp-content/uploads/2024/09/2025_Homepage_Vorschau_DIY.png
ORGANIZER;CN="Katholisches Jugendreferat Heilbronn":MAILTO:jugendreferat.heilbronn@bdkj-bja.drs.de
END:VEVENT
BEGIN:VEVENT
DTSTART;TZID=Europe/Berlin:20251019T111500
DTEND;TZID=Europe/Berlin:20251019T111500
DTSTAMP:20260420T145531
CREATED:20251013T103937Z
LAST-MODIFIED:20251013T104042Z
UID:17231-1760872500-1760872500@dekanat-heilbronn-neckarsulm.de
SUMMARY:Festgottesdienst mit Bischof Krämer
DESCRIPTION:Es ist uns eine große Freude\, dass uns unser neuer Bischof Dr. Klaus Krämer anlässlich unseres Jubiläums „800 Jahre Deutscher Orden in Heilbronn“ am 19. Oktober 2025 besucht. Wir feiern mit ihm Gottesdienst mit festlicher Orchestermesse um 11.15 Uhr. \n\n\n\n\nEs erklingt dabei die „Jubelmesse“ von Carl Maria von Weber (1786-1826) mit Solisten (Athos Ensemble)\, Chor am Deutschordensmünster mit Gastsängerinnen und -sänger und großem Orchester: Streicher (Heilbronner Kantatenensemble)\, 2 Klarinetten\, 2 Oboen\, 2 Fagotte\, zwei Querflöten\, 2 Hörner\, 2 Trompeten und Pauken. Außerdem wird der Choral „Nun danket alle Gott“ aus der Kantate „Gott unser Herr ist Sonn und Schild“ von Johann Sebastian Bach (1685-1750) und das Duett für Sopran und Bass „Gott\, ach Gott\, verlass die Deinen nimmermehr“ gesungen und die Heilig-Jahr-Hymne „Licht des Lebens\, Flamme unsrer Hoffnung“ von Francesco Meneghello.\nDie Leitung hat Michael Saum\, an der Hauptorgel spielt Roman Kusch. \nNach dem Gottesdienst gibt es im Gemeindehaus ein einfaches Mittagessen. \n\n\n\n\nEs schließt sich ein Vortrag von Dr. Joachim Hennze an „Aspekte des barocken sakralen Innenraums am Beispiel der Kirche St. Peter und Paul in Heilbronn“.\nDie Jahre zwischen 1690 und 1740 waren bedeutend für die Barockisierung bestehender sakraler Innenräume in Süddeutschland wie auch für den Neubau von Gotteshäusern. Dr. Joachim Hennze wird einige Beispiele aus den Regionen Franken\, Baden und Württemberg in Bild und Text vorstellen. Zu den künstlerisch gelungenen\, wenn leider auch im zweiten Weltkrieg zerstörten Innenräumen gehört St. Peter und Paul. Joachim Hennze wird hier Details des Raums\, das Figurenprogramm und die beteiligten Künstler vorstellen. \nPfarrer Roland Rossnagel
URL:https://dekanat-heilbronn-neckarsulm.de/veranstaltung/festgottesdienst-mit-bischof/
LOCATION:Deutschordensmünster St. Peter und Paul\, Heilbronn
CATEGORIES:Besondere_Gottesdienste,Frauen,Junge_Erwachsene,Männer,Musikalisches,Senioren,Spiritualität
ATTACH;FMTTYPE=image/png:https://dekanat-heilbronn-neckarsulm.de/wp-content/uploads/2025/01/2025_Vorschau_Homepage_800J_Deutschorden.png
END:VEVENT
BEGIN:VEVENT
DTSTART;TZID=Europe/Berlin:20251019T150000
DTEND;TZID=Europe/Berlin:20251019T160000
DTSTAMP:20260420T145531
CREATED:20240403T120747Z
LAST-MODIFIED:20251013T104525Z
UID:13035-1760886000-1760889600@dekanat-heilbronn-neckarsulm.de
SUMMARY:Ich wünsch dir Leben
DESCRIPTION:Segensfeier für schwangere Frauen und ihre Familien\nJedes Kind liegt Gott von jeher am Herzen\,\nund in dem Moment\, in dem es empfangen wird\,\nerfüllt sich der ewige Traum des Schöpfers.\nPapst Franziskus \nAlle\, gleich welcher Konfession\, wie nah oder fern der Kirche\, ob das Kind geplant oder ungeplant ist\, alle sind zu den Segensfeiern herzlich eingeladen. \nSchwangere\, ihre Partner und Angehörigen machen in der Zeit der Schwangerschaft ganz besondere Erfahrungen. Neues Leben wächst heran und es beansprucht seinen Platz in der Familie. Dadurch verändert sich alles\, der gesamte Alltag wird umgekrempelt\, die Beziehungen der Partner wandeln sich\nund aus dem Paar wird eine Familie. Freude und Unsicherheit begleiten diesen Wandel. \nDer Segen Gottes will in dieser Lebensphase die Mütter\, Paare und Familien stärken. Er will sie zu einem eindeutigen Ja zum Kind ermutigen und ihnen Kraft für die Geburt und die neue Lebensphase mit dem Kind (geben) vermitteln. \nUnter dem Titel „Ich wünsche dir Leben“ laden wir alle schwangeren Frauen\, ihre Partner und Angehörigen zu einer kleinen Feier ein. Sie bietet Zeit\, zur Besinnung zu kommen und gibt Raum für Innehalten und Gebet. Im Anschluss werden die Mütter und Väter und ihre Angehörigen gesegnet und mit Gottes Beistand in die neue Lebensphase entlassen.
URL:https://dekanat-heilbronn-neckarsulm.de/veranstaltung/ich-wuensch-dir-leben-3/
LOCATION:Wallfahrtskirche St. Maria Höchstberg\, Kappelweg 38\, Gundelsheim-Höchstberg\, 74831
CATEGORIES:Besondere_Gottesdienste,Junge_Erwachsene,Schwangerschaft und Geburt
ORGANIZER;CN="Seelsorgeeinheit Krumme Ebene%2C Gundelsheim":MAILTO:StNikolaus.Gundelsheim@drs.de
END:VEVENT
BEGIN:VEVENT
DTSTART;TZID=Europe/Berlin:20251019T180000
DTEND;TZID=Europe/Berlin:20251019T184500
DTSTAMP:20260420T145531
CREATED:20250122T152138Z
LAST-MODIFIED:20250122T152249Z
UID:15365-1760896800-1760899500@dekanat-heilbronn-neckarsulm.de
SUMMARY:Taizé-Gebet in Höchstberg
DESCRIPTION:Wir treffen uns am Sonntag\, 19. Oktober\, von 18:00 – 18:45 Uhr in der Wallfahrtskirche Höchstberg. \nGäste sind herzlich willkommen. \n \nPlakat zum Download
URL:https://dekanat-heilbronn-neckarsulm.de/veranstaltung/taize-gebet-in-hoechstberg-9/
LOCATION:Wallfahrtskirche St. Maria Höchstberg\, Kappelweg 38\, Gundelsheim-Höchstberg\, 74831
CATEGORIES:Besondere Spirituelle Angebote,Frauen,Männer,Ökumene,Senioren,Taize
ATTACH;FMTTYPE=image/png:https://dekanat-heilbronn-neckarsulm.de/wp-content/uploads/2025/01/Taize_Gebet_Dekanat_Hoechstberg_Quadrat_Vorschau_Homepage.png
ORGANIZER;CN="Seelsorgeeinheit Krumme Ebene%2C Gundelsheim":MAILTO:StNikolaus.Gundelsheim@drs.de
END:VEVENT
BEGIN:VEVENT
DTSTART;TZID=Europe/Berlin:20251019T183000
DTEND;TZID=Europe/Berlin:20251019T183000
DTSTAMP:20260420T145531
CREATED:20250505T131754Z
LAST-MODIFIED:20250924T090428Z
UID:16653-1760898600-1760898600@dekanat-heilbronn-neckarsulm.de
SUMMARY:Worship-Abend Praise & Sing
DESCRIPTION:
URL:https://dekanat-heilbronn-neckarsulm.de/veranstaltung/worship-abend-praise-sing/
LOCATION:St. Johann Baptist\, Affaltrach\, Schulgasse\, Obersulm\, 74182
CATEGORIES:Besondere_Gottesdienste,Frauen,Männer,Spiritualität,Worship
ATTACH;FMTTYPE=image/jpeg:https://dekanat-heilbronn-neckarsulm.de/wp-content/uploads/2024/09/2024_PraiseSing_Affaltrach_Logo-e1727263947963.jpg
END:VEVENT
END:VCALENDAR