BEGIN:VCALENDAR
VERSION:2.0
PRODID:-//Dekanat Heilbronn-Neckarsulm - ECPv6.15.20//NONSGML v1.0//EN
CALSCALE:GREGORIAN
METHOD:PUBLISH
X-WR-CALNAME:Dekanat Heilbronn-Neckarsulm
X-ORIGINAL-URL:https://dekanat-heilbronn-neckarsulm.de
X-WR-CALDESC:Veranstaltungen für Dekanat Heilbronn-Neckarsulm
REFRESH-INTERVAL;VALUE=DURATION:PT1H
X-Robots-Tag:noindex
X-PUBLISHED-TTL:PT1H
BEGIN:VTIMEZONE
TZID:Europe/Berlin
BEGIN:DAYLIGHT
TZOFFSETFROM:+0100
TZOFFSETTO:+0200
TZNAME:CEST
DTSTART:20240331T010000
END:DAYLIGHT
BEGIN:STANDARD
TZOFFSETFROM:+0200
TZOFFSETTO:+0100
TZNAME:CET
DTSTART:20241027T010000
END:STANDARD
BEGIN:DAYLIGHT
TZOFFSETFROM:+0100
TZOFFSETTO:+0200
TZNAME:CEST
DTSTART:20250330T010000
END:DAYLIGHT
BEGIN:STANDARD
TZOFFSETFROM:+0200
TZOFFSETTO:+0100
TZNAME:CET
DTSTART:20251026T010000
END:STANDARD
BEGIN:DAYLIGHT
TZOFFSETFROM:+0100
TZOFFSETTO:+0200
TZNAME:CEST
DTSTART:20260329T010000
END:DAYLIGHT
BEGIN:STANDARD
TZOFFSETFROM:+0200
TZOFFSETTO:+0100
TZNAME:CET
DTSTART:20261025T010000
END:STANDARD
END:VTIMEZONE
BEGIN:VEVENT
DTSTART;TZID=Europe/Berlin:20251127T173000
DTEND;TZID=Europe/Berlin:20251127T173000
DTSTAMP:20260420T134205
CREATED:20250722T124438Z
LAST-MODIFIED:20251027T144026Z
UID:17041-1764264600-1764264600@dekanat-heilbronn-neckarsulm.de
SUMMARY:Adventskränze binden
DESCRIPTION:Wir binden gemeinsam Adventskränze. \nWeitere Infos und Anmeldung: https://drs-map.viadesk.com/do/surveyfrontwrite?id=7710033-737572766579 \n   \n  \nHermine Baur-Ihle\, Sarah Harst\, Philipp Knopik und Michael Dieterle freuen sich auf Dich!
URL:https://dekanat-heilbronn-neckarsulm.de/veranstaltung/adventskraenze-binden/
CATEGORIES:Frauen,Junge_Erwachsene,Kreatives,Männer,Stadtkirche
ATTACH;FMTTYPE=image/jpeg:https://dekanat-heilbronn-neckarsulm.de/wp-content/uploads/2025/07/Adventskraenze_binden_CC_Sarah_Harst.jpeg
END:VEVENT
BEGIN:VEVENT
DTSTART;TZID=Europe/Berlin:20251127T193000
DTEND;TZID=Europe/Berlin:20251127T193000
DTSTAMP:20260420T134205
CREATED:20251117T141403Z
LAST-MODIFIED:20251118T073802Z
UID:17457-1764271800-1764271800@dekanat-heilbronn-neckarsulm.de
SUMMARY:Wer ist eigentlich Jesus Christus?
DESCRIPTION:1700 Jahre Konzil von Nizäa\nInformationsabend mit Gelegenheit zum Austausch\nWann: Donnerstag\, 27.11. um 19.30 Uhr\nWo: Pauluszentrum in Lauffen (Schillerstraße 45) \nEnde Juli 325\, also vor 1700 Jahren\, endete das erste große ökumenische Konzil in der Stadt Nizäa\, dem wir vor allem weite Teile unseres großen Glaubensbekenntnisses verdanken. Am 27. November wollen wir der Frage nachgehen\, wie es zu den Entscheidungen des Konzils gekommen ist und welche Bedeutung diese bis heute für uns und unseren christlichen Glauben haben. Es ging bei dem Konzil damals nicht um eine theoretische Fragestellung\, so eine Art theologische Fachsimpelei\, sondern wesentlich um die Frage wer eigentlich Jesus Christus ist. Es ging um die Grundsatzfrage nach dem Heil und der Rettung unseres Lebens. \nHerzliche Einladung zu diesem Abend\, der sich nicht nur mit irgendeinem Konzil\, sondern mit grundlegenden Fragen des christlichen Glaubens beschäftigen wird. \nPfr. Michael Donnerbauer
URL:https://dekanat-heilbronn-neckarsulm.de/veranstaltung/wer-ist-eigentlich-jesus-christus/
LOCATION:Kath. Pauluszentrum Lauffen\, Schillerstr. 45\, Lauffen am Neckar\, 74348
CATEGORIES:Bildungsangebote,Frauen,Interreligiöses,Junge_Erwachsene,Männer,Religionspädagogik
ORGANIZER;CN="Katholische Kirchengemeinde St. Franziskus%2C Lauffen a. N.":MAILTO:stfranziskus.lauffenamneckar@drs.de
END:VEVENT
END:VCALENDAR