BEGIN:VCALENDAR
VERSION:2.0
PRODID:-//Dekanat Heilbronn-Neckarsulm - ECPv6.15.20//NONSGML v1.0//EN
CALSCALE:GREGORIAN
METHOD:PUBLISH
X-WR-CALNAME:Dekanat Heilbronn-Neckarsulm
X-ORIGINAL-URL:https://dekanat-heilbronn-neckarsulm.de
X-WR-CALDESC:Veranstaltungen für Dekanat Heilbronn-Neckarsulm
REFRESH-INTERVAL;VALUE=DURATION:PT1H
X-Robots-Tag:noindex
X-PUBLISHED-TTL:PT1H
BEGIN:VTIMEZONE
TZID:Europe/Berlin
BEGIN:DAYLIGHT
TZOFFSETFROM:+0100
TZOFFSETTO:+0200
TZNAME:CEST
DTSTART:20250330T010000
END:DAYLIGHT
BEGIN:STANDARD
TZOFFSETFROM:+0200
TZOFFSETTO:+0100
TZNAME:CET
DTSTART:20251026T010000
END:STANDARD
BEGIN:DAYLIGHT
TZOFFSETFROM:+0100
TZOFFSETTO:+0200
TZNAME:CEST
DTSTART:20260329T010000
END:DAYLIGHT
BEGIN:STANDARD
TZOFFSETFROM:+0200
TZOFFSETTO:+0100
TZNAME:CET
DTSTART:20261025T010000
END:STANDARD
BEGIN:DAYLIGHT
TZOFFSETFROM:+0100
TZOFFSETTO:+0200
TZNAME:CEST
DTSTART:20270328T010000
END:DAYLIGHT
BEGIN:STANDARD
TZOFFSETFROM:+0200
TZOFFSETTO:+0100
TZNAME:CET
DTSTART:20271031T010000
END:STANDARD
END:VTIMEZONE
BEGIN:VEVENT
DTSTART;VALUE=DATE:20260122
DTEND;VALUE=DATE:20260123
DTSTAMP:20260420T112624
CREATED:20251027T140002Z
LAST-MODIFIED:20251029T112329Z
UID:17344-1769040000-1769126399@dekanat-heilbronn-neckarsulm.de
SUMMARY:Anmeldeschluss Taizé-Reisen 2026 für Erwachsene
DESCRIPTION:Taizé\, ein Ort wo …\nman auftanken\, zur Ruhe kommen\, etwas von Gott erspüren\, Gemeinschaft erleben kann.\nFahrt nach Taizé: 28.06.-05.07. oder 30.08.-06.09.2026\n \nIn einem Bauernhaus direkt neben dem Taizégelände sind 2 Ferienwohnungen mit insgesamt 5 Zimmern reserviert. Kosten für die ganze Woche pro Zimmer ca. 260€ (zzgl. Bettwäsche\, Handtücher\, Endreinigung). Belegung ist möglich zu zweit oder als Einzelperson. Die Verpflegung organisieren wir unter uns. Für die Hinfahrt können wir Fahrgemeinschaften bilden. \nAuch uns Erwachsenen und Älteren kann Taizé gut tun. Jeder entscheidet selbst\, an welchen religiösen Angeboten der Taizégemeinschaft er teilnimmt. Ausflüge in schöne historische Orte in Burgund z. B. nach Cluny sind auch möglich. \nWeitere Informationen und Anmeldung bei Diakon Roland Walter\nMail: Roland.walter@drs.de oder 0151-50968480 \nAnmeldung bis 22.01.2026 \nInfos über Taizé finden sie auf der Homepage: www.taize.fr/de
URL:https://dekanat-heilbronn-neckarsulm.de/veranstaltung/anmeldeschluss-taize-fahrten-2026-fuer-erwachsene/
CATEGORIES:Besondere Spirituelle Angebote,Frauen,Männer,Ökumene,Reisen,Senioren,Taize
ATTACH;FMTTYPE=image/jpeg:https://dekanat-heilbronn-neckarsulm.de/wp-content/uploads/2025/10/Taize_Bild_Walter.jpg
ORGANIZER;CN="Katholische Seelsorgeeinheit JaKoBuS":MAILTO:MH.Neuenstadt-Kochertuern@drs.de
END:VEVENT
END:VCALENDAR