BEGIN:VCALENDAR
VERSION:2.0
PRODID:-//Dekanat Heilbronn-Neckarsulm - ECPv6.15.20//NONSGML v1.0//EN
CALSCALE:GREGORIAN
METHOD:PUBLISH
X-WR-CALNAME:Dekanat Heilbronn-Neckarsulm
X-ORIGINAL-URL:https://dekanat-heilbronn-neckarsulm.de
X-WR-CALDESC:Veranstaltungen für Dekanat Heilbronn-Neckarsulm
REFRESH-INTERVAL;VALUE=DURATION:PT1H
X-Robots-Tag:noindex
X-PUBLISHED-TTL:PT1H
BEGIN:VTIMEZONE
TZID:Europe/Berlin
BEGIN:DAYLIGHT
TZOFFSETFROM:+0100
TZOFFSETTO:+0200
TZNAME:CEST
DTSTART:20250330T010000
END:DAYLIGHT
BEGIN:STANDARD
TZOFFSETFROM:+0200
TZOFFSETTO:+0100
TZNAME:CET
DTSTART:20251026T010000
END:STANDARD
BEGIN:DAYLIGHT
TZOFFSETFROM:+0100
TZOFFSETTO:+0200
TZNAME:CEST
DTSTART:20260329T010000
END:DAYLIGHT
BEGIN:STANDARD
TZOFFSETFROM:+0200
TZOFFSETTO:+0100
TZNAME:CET
DTSTART:20261025T010000
END:STANDARD
BEGIN:DAYLIGHT
TZOFFSETFROM:+0100
TZOFFSETTO:+0200
TZNAME:CEST
DTSTART:20270328T010000
END:DAYLIGHT
BEGIN:STANDARD
TZOFFSETFROM:+0200
TZOFFSETTO:+0100
TZNAME:CET
DTSTART:20271031T010000
END:STANDARD
END:VTIMEZONE
BEGIN:VEVENT
DTSTART;VALUE=DATE:20260204
DTEND;VALUE=DATE:20260206
DTSTAMP:20260420T100526
CREATED:20260119T081342Z
LAST-MODIFIED:20260119T094358Z
UID:17807-1770163200-1770335999@dekanat-heilbronn-neckarsulm.de
SUMMARY:Fachtag "Mit Tod und Trauer an der Schule umgehen"
DESCRIPTION:Tod und Trauer machen vor den Schultüren nicht Halt. Umso wichtiger ist es\, sich vorab mit diesem Thema zu beschäftigen. Die Fachstelle Schulpastoral bietet einen Fachtag am 04./05. Februar 2026 in Wernau für Lehrkräfte und Fachkräfte an. Referentinnen sind Annette Brandner und Uta Martina Hauf. Dabei geht es um die Vermittlung von fachlichen Kenntnissen\, um das Entwickeln eines kreativen Gesprächs\, ausgehend von eigenen Erfahrungen. Und es gibt Praxisbeispiele\, wie wir Trauersituationen an der Schule rituell gestalten können. Alles Wichtige befindet sich in diesem Flyer. \nAnmeldung möglichst sofort unter schulpastoral@bo.drs.de.
URL:https://dekanat-heilbronn-neckarsulm.de/veranstaltung/fachtag-mit-tod-und-trauer-an-der-schule-umgehen/
LOCATION:Jugend- und Tagungshaus St. Antonius\, Wernau am Neckar\, Antoniusstr. 3\, Wernau (Neckar)\, 73249
END:VEVENT
END:VCALENDAR