BEGIN:VCALENDAR
VERSION:2.0
PRODID:-//Dekanat Heilbronn-Neckarsulm - ECPv6.15.20//NONSGML v1.0//EN
CALSCALE:GREGORIAN
METHOD:PUBLISH
X-ORIGINAL-URL:https://dekanat-heilbronn-neckarsulm.de
X-WR-CALDESC:Veranstaltungen für Dekanat Heilbronn-Neckarsulm
REFRESH-INTERVAL;VALUE=DURATION:PT1H
X-Robots-Tag:noindex
X-PUBLISHED-TTL:PT1H
BEGIN:VTIMEZONE
TZID:Europe/Berlin
BEGIN:DAYLIGHT
TZOFFSETFROM:+0100
TZOFFSETTO:+0200
TZNAME:CEST
DTSTART:20250330T010000
END:DAYLIGHT
BEGIN:STANDARD
TZOFFSETFROM:+0200
TZOFFSETTO:+0100
TZNAME:CET
DTSTART:20251026T010000
END:STANDARD
BEGIN:DAYLIGHT
TZOFFSETFROM:+0100
TZOFFSETTO:+0200
TZNAME:CEST
DTSTART:20260329T010000
END:DAYLIGHT
BEGIN:STANDARD
TZOFFSETFROM:+0200
TZOFFSETTO:+0100
TZNAME:CET
DTSTART:20261025T010000
END:STANDARD
BEGIN:DAYLIGHT
TZOFFSETFROM:+0100
TZOFFSETTO:+0200
TZNAME:CEST
DTSTART:20270328T010000
END:DAYLIGHT
BEGIN:STANDARD
TZOFFSETFROM:+0200
TZOFFSETTO:+0100
TZNAME:CET
DTSTART:20271031T010000
END:STANDARD
END:VTIMEZONE
BEGIN:VEVENT
DTSTART;TZID=Europe/Berlin:20260208T183000
DTEND;TZID=Europe/Berlin:20260208T191500
DTSTAMP:20260420T100710
CREATED:20250102T100558Z
LAST-MODIFIED:20251022T133142Z
UID:15046-1770575400-1770578100@dekanat-heilbronn-neckarsulm.de
SUMMARY:Taizé-Gebet in Kirchhausen
DESCRIPTION:Herzliche Einladung zum Taizé-Gebet am Sonntag\, 8. Februar\, um 18:30 Uhr in die katholische Kirche St. Alban\, Heilbronn-Kirchhausen.
URL:https://dekanat-heilbronn-neckarsulm.de/veranstaltung/taize-gebet-in-kirchhausen-2/
LOCATION:Katholische Kirche St. Alban\, HN-Kirchhausen\, Schlossstraße 38\, Heilbronn-Kirchhausen\, 74078
CATEGORIES:Besondere Spirituelle Angebote,Frauen,Junge_Erwachsene,Männer,Ökumene,Senioren,Spiritualität,Taize
ATTACH;FMTTYPE=image/png:https://dekanat-heilbronn-neckarsulm.de/wp-content/uploads/2024/12/Taize_Gebet_Dekanat_Kirchhausen_Quadrat_Vorschau_Homepage.png
END:VEVENT
END:VCALENDAR