BEGIN:VCALENDAR
VERSION:2.0
PRODID:-//Dekanat Heilbronn-Neckarsulm - ECPv6.15.20//NONSGML v1.0//EN
CALSCALE:GREGORIAN
METHOD:PUBLISH
X-ORIGINAL-URL:https://dekanat-heilbronn-neckarsulm.de
X-WR-CALDESC:Veranstaltungen für Dekanat Heilbronn-Neckarsulm
REFRESH-INTERVAL;VALUE=DURATION:PT1H
X-Robots-Tag:noindex
X-PUBLISHED-TTL:PT1H
BEGIN:VTIMEZONE
TZID:Europe/Berlin
BEGIN:DAYLIGHT
TZOFFSETFROM:+0100
TZOFFSETTO:+0200
TZNAME:CEST
DTSTART:20250330T010000
END:DAYLIGHT
BEGIN:STANDARD
TZOFFSETFROM:+0200
TZOFFSETTO:+0100
TZNAME:CET
DTSTART:20251026T010000
END:STANDARD
BEGIN:DAYLIGHT
TZOFFSETFROM:+0100
TZOFFSETTO:+0200
TZNAME:CEST
DTSTART:20260329T010000
END:DAYLIGHT
BEGIN:STANDARD
TZOFFSETFROM:+0200
TZOFFSETTO:+0100
TZNAME:CET
DTSTART:20261025T010000
END:STANDARD
BEGIN:DAYLIGHT
TZOFFSETFROM:+0100
TZOFFSETTO:+0200
TZNAME:CEST
DTSTART:20270328T010000
END:DAYLIGHT
BEGIN:STANDARD
TZOFFSETFROM:+0200
TZOFFSETTO:+0100
TZNAME:CET
DTSTART:20271031T010000
END:STANDARD
END:VTIMEZONE
BEGIN:VEVENT
DTSTART;VALUE=DATE:20260211
DTEND;VALUE=DATE:20260402
DTSTAMP:20260420T084830
CREATED:20241113T120535Z
LAST-MODIFIED:20251209T082639Z
UID:14812-1770768000-1775087999@dekanat-heilbronn-neckarsulm.de
SUMMARY:LUV - tiefer ins Leben
DESCRIPTION:Alles beginnt mit der Sehnsucht.\nIn ruhigen Zeiten – wenn uns der Alltag nicht länger vom Nachdenken abhält – stellt sich bei uns ein Gefühl der Sehnsucht ein. Manchmal bedauern wir Entscheidungen\, die wir getroffen haben. Manchmal sehnen wir uns nach etwas\, das tiefer geht. \nWoraus besteht eigentlich gutes Leben? \nUnd wie kommen wir dahin? \nLUV bedeutet „dem Wind zugeneigte Seite“ – sich neu ausrichten\, Kraft und Inspiration spüren und tiefer ins Leben eintauchen. Diese Erfahrung wünschen wir dir. \nFür 2026 planen wir einen digitalen LUV-Kurs. \nDie LUV-Reise ist besonders für junge Menschen und Menschen\, die auf der Suche nach einer Vertiefung des Lebens sind\, gedacht.\nGerade auch für diejenigen\, die offen sind für eine neue Sprache und andere Formen der christlichen Spiritualität.\nEr orientiert sich an der eigenen Biografie und stellt Fragen\, mit denen man den eigenen Spuren (und dem Wirken Gottes?) auf die Spur kommen kann.\nDen Kern der Abende bildet ein fester Ablauf mit unterschiedlichen Bausteinen: Ankommensphase\, Rückblick auf den vorigen Abend mit kurzem 2er-Austausch\, Impuls des Tages und die Circles (feste Austauschgruppen aus etwa 3-4 Personen). Ergänzend gibt es verschiedene Elemente\, die wir dir an dieser Stelle noch nicht verraten.\nBei LUV geht es darum\, beim gemeinsamen Hören\, Nachdenken und Austausch das eigene Leben und sich selbst ein Stück besser kennenzulernen.\nDabei sind die thematischen Impulse zentral\, um zu erkennen\, was unser Leben geprägt hat\, wo wir die Melodie unseres Herzens hören und um Goldmomente zu entdecken. \nLass dich ein kleines bisschen inspirieren und neugierig machen: zum LUV-Trailer. \nMehr zu LUV online: https://luv-workshop.de \nUnsere Termine für 2026:\nReisevorbereitung: Mittwoch\, 11.02.2026 \nUnsere LUV-Reise:\nMittwoch\, 25.02.2026\nMittwoch\, 04.03.2026\nMittwoch\, 11.03.2026\nMittwoch\, 18.03.2026\nMittwoch\, 25.03.2026\nMittwoch\, 01.04.2026 \nJeweils 19:30 – 21:30 Uhr per Zoom. \nAnmeldung: https://drs-map.viadesk.com/do/surveyfrontwrite?id=8159952-737572766579\nDer Anmeldeschluss ist am 8. Februar 2026. \nWenn du bei unserem ersten digitalen Treffen „Reisevorbereitung“ merkst\, dass das Angebot doch nicht zu dir passt\, kannst du dich einfach über eine kurze Mail an uns wieder abmelden. \nFür die LUV-Reise fallen Materialkosten von 15 € an. Uns ist es wichtig\, dass jede und jeder bei der LUV-Reise teilnehmen kann.\nWenn es für dich finanziell gerade schwierig ist\, übernehmen die Dekanate die Kosten für dich.\nWenn du dich an den Materialkosten beteiligen kannst\, schicken wir dir zu Beginn der LUV-Reise eine Rechnung zu. \nDu hast Interesse und möchtest mehr wissen?\nDann melde dich gerne bei uns:\nSarah Harst\, Sarah.Harst@drs.de oder telefonisch\, per Messenger\, SMS unter 01625143876\noder Julia Albers\, Julia.Albers@drs.de oder Sue Grimbacher jungeerwachsene@keb-rt.de \n  \nEs freuen sich auf dich \nJulia Albers\, Sue Grimbacher\, Sarah Harst \nProfilstelleninhaberinnen Glauben:Leben im Dekanat Esslingen-Nürtingen\nJunge Erwachsene im Dekanat Reutlingen-Zweiflingen\nund Digitalisierung und Glaubenskommunikation im Dekanat Heilbronn-Neckarsulm
URL:https://dekanat-heilbronn-neckarsulm.de/veranstaltung/luv-digital/
LOCATION:Online (Zoom)
CATEGORIES:Besondere Spirituelle Angebote,Frauen,Jugendspiritualität,Junge_Erwachsene,Männer,Spiritualität
ATTACH;FMTTYPE=image/jpeg:https://dekanat-heilbronn-neckarsulm.de/wp-content/uploads/2024/11/LUV_Postkarte_JPG_vorne.jpg
END:VEVENT
BEGIN:VEVENT
DTSTART;TZID=Europe/Berlin:20260309T160000
DTEND;TZID=Europe/Berlin:20260309T180000
DTSTAMP:20260420T084830
CREATED:20240925T131923Z
LAST-MODIFIED:20260209T074547Z
UID:14414-1773072000-1773079200@dekanat-heilbronn-neckarsulm.de
SUMMARY:Zwischendrin
DESCRIPTION:Herzliche Einladung! \nAm ersten Montag im Monat bieten wir eine Austauschrunde zur Religiösen Bildung an. \nFür ca. zwei Stunden wollen wir zwischen 16:00 und 18:00 Uhr (nach der Arbeit des Tages und vor dem erholsamen Feierabend) Gemeinschaft genießen\, kreativ werden\, uns austauschen\, uns über neue Medien informieren lassen\, kollegiale Bera­tung pflegen\, uns über Themen und aktuelle Entwicklungen rund um religiöse Bildung informieren. \nDie Veranstaltung ist für alle Lehrkräfte\, Menschen\, die mit Kindern und Jugendlichen in Schule und Kirchengemeinde religionspädagogisch\, seelsorgerlich oder katechetisch arbeiten\, und alle Interessierte. \nUnsere nächsten Termine finden Sie unten. Kurz vor dem nächsten Termin veröffentlichen wir das Thema des Abends unter Aktuelles. \nWeitere Termine im Schuljahr 2026: 09.03.2026\, 04.05.2026\, 08.06.2026\, 06.07.2026.
URL:https://dekanat-heilbronn-neckarsulm.de/veranstaltung/zwischendrin-03/
LOCATION:rpi im Heinrich-Fries-Haus\, Bahnhofstr. 13\, Heilbronn\, 74072
CATEGORIES:Kirche und Schule, Schulpastoral,Religionspädagogik
ATTACH;FMTTYPE=image/png:https://dekanat-heilbronn-neckarsulm.de/wp-content/uploads/2024/09/Zwischendrin_Logo_Runder_Zuschnitt.png
ORGANIZER;CN="rpi in Kooperation mit der Fachstelle Kirche und Schule & Schulpastoral":MAILTO:rpi.hn@drs.de
END:VEVENT
BEGIN:VEVENT
DTSTART;TZID=Europe/Berlin:20260309T180000
DTEND;TZID=Europe/Berlin:20260309T193000
DTSTAMP:20260420T084830
CREATED:20260211T102544Z
LAST-MODIFIED:20260211T102831Z
UID:18098-1773079200-1773084600@dekanat-heilbronn-neckarsulm.de
SUMMARY:Online-Informationsveranstaltungen zur Digitalstrategie
DESCRIPTION:Im Dezember 2025 wurde die Digitalstrategie für die Diözese Rottenburg-Stuttgart verabschiedet. 2026 beginnt die Umsetzung der entwickelten Digitalisierungsmaßnahmen. Für 2026 sind 12 parallel laufende Projekte geplant\, etwa die Digitalisierung und Automatisierung zunächst von einfachen und wiederkehrenden Prozessen\, die Verbesserung des Netzwerks\, die Stärkung der digitalen Zusammenarbeit und Kommunikation sowie die Einführung einer geschlossenen KI und eines digitalen Dokumentenmanagementsystems. \nMit der Veranstaltung möchten wir Ihnen gerne die Gelegenheit geben\, \n\neinige der handelnden Personen kennenzulernen\,\nmehr Informationen zum Inhalt der Strategie und zu deren geplanter Umsetzung zu erhalten\,\nFragen zu stellen und uns Feedback / Hinweise zu geben.\n\nAnmeldung\nBitte melden Sie sich unter den folgenden Links zu dem für Sie passenden Termin an. Bitte geben Sie für die Anmeldung Ihren Vor- und Nachnamen sowie Ihre E-Mail-Adresse an. Die Zugangsdaten zur Veranstaltung werden Ihnen rechtzeitig vor Veranstaltungsbeginn an die von Ihnen angegebene E-Mail-Adresse geschickt. \nWir freuen uns darauf\, mit Ihnen in Kontakt zu kommen. \nSilke Ried für das Programm Digitalstrategie \nTermine\nIm ersten Schritt bieten wir Ihnen vier Termine an\, die wir online durchführen werden\, sodass Sie von überall aus teilnehmen können. Wenn das Interesse groß ist und nicht alle Interessierten an den vier Terminen untergebracht werden können\, werden wir weitere Termine anbieten\, über die wir Sie hier informieren werden. \nMontag\, 23. Februar 2026 10:30 – 12:00 Uhr Anmeldung\nMontag\, 23. Februar 2026 18:00 – 19:30 Uhr Anmeldung\nDienstag\, 3. März 2026 10:30 – 12:00 Uhr Anmeldung\nMontag\, 9. März 2026 18:00 – 19:30 Uhr Anmeldung \nweiteres zum Projekt Digitalstrategie Termine – Projekt Digitalstrategie
URL:https://dekanat-heilbronn-neckarsulm.de/veranstaltung/online-informationsveranstaltungen-zur-digitalstrategie-2/
LOCATION:Online (Zoom)
CATEGORIES:Bildungsangebote,Digitalisierung und Glaubenskommunikation,Ehrenamtliche,Frauen,Hauptamtliche,Männer,Medien und Digitalisierung,Online-Formate, Digitales
ATTACH;FMTTYPE=image/png:https://dekanat-heilbronn-neckarsulm.de/wp-content/uploads/2026/02/Digitalstrategie_fuer_Homepage.png
END:VEVENT
END:VCALENDAR