BEGIN:VCALENDAR
VERSION:2.0
PRODID:-//Dekanat Heilbronn-Neckarsulm - ECPv6.15.20//NONSGML v1.0//EN
CALSCALE:GREGORIAN
METHOD:PUBLISH
X-WR-CALNAME:Dekanat Heilbronn-Neckarsulm
X-ORIGINAL-URL:https://dekanat-heilbronn-neckarsulm.de
X-WR-CALDESC:Veranstaltungen für Dekanat Heilbronn-Neckarsulm
REFRESH-INTERVAL;VALUE=DURATION:PT1H
X-Robots-Tag:noindex
X-PUBLISHED-TTL:PT1H
BEGIN:VTIMEZONE
TZID:Europe/Berlin
BEGIN:DAYLIGHT
TZOFFSETFROM:+0100
TZOFFSETTO:+0200
TZNAME:CEST
DTSTART:20250330T010000
END:DAYLIGHT
BEGIN:STANDARD
TZOFFSETFROM:+0200
TZOFFSETTO:+0100
TZNAME:CET
DTSTART:20251026T010000
END:STANDARD
BEGIN:DAYLIGHT
TZOFFSETFROM:+0100
TZOFFSETTO:+0200
TZNAME:CEST
DTSTART:20260329T010000
END:DAYLIGHT
BEGIN:STANDARD
TZOFFSETFROM:+0200
TZOFFSETTO:+0100
TZNAME:CET
DTSTART:20261025T010000
END:STANDARD
BEGIN:DAYLIGHT
TZOFFSETFROM:+0100
TZOFFSETTO:+0200
TZNAME:CEST
DTSTART:20270328T010000
END:DAYLIGHT
BEGIN:STANDARD
TZOFFSETFROM:+0200
TZOFFSETTO:+0100
TZNAME:CET
DTSTART:20271031T010000
END:STANDARD
END:VTIMEZONE
BEGIN:VEVENT
DTSTART;VALUE=DATE:20260502
DTEND;VALUE=DATE:20260504
DTSTAMP:20260420T100540
CREATED:20251218T094432Z
LAST-MODIFIED:20260326T151258Z
UID:17641-1777680000-1777852799@dekanat-heilbronn-neckarsulm.de
SUMMARY:Schimmer:Mein - Dein Kreativ-Wochenende auf dem Berg
DESCRIPTION:Für junge Erwachsene von 18 – ca. 35 Jahre \nWann? Samstag\, 2. Mai 2026 – Sonntag\, 3. Mai 2026 \nWo? Michaelsberg Cleebronn \nAlle Infos hier: https://der-berg-online.de/events/bergzeit-4-829/ \nWenn Du Dich zu unseren #News anmeldest\, verpasst Du keine Termine und wir halten Dich auf dem Laufenden\, wie es mit dem Angebot weiter geht. \nDas Angebot steht allen Menschen offen\, die im Stadt- und Landkreis Heilbronn wohnen\, arbeiten oder sich mit dieser Stadt verbunden sind oder einfach mal neugierig auf etwas Neues. \n\nViele Grüße schickt das Organisations-Team \n 
URL:https://dekanat-heilbronn-neckarsulm.de/veranstaltung/schimmer-mein-wochenende/
LOCATION:Jugendspirituelles Zentrum Michaelsberg\, Cleebronn\, Michaelsberg 1\, Cleebronn\, 74389
CATEGORIES:DerBERG - Jugendspirituelles Zentrum,Frauen,Junge_Erwachsene,Kreatives,Männer
ATTACH;FMTTYPE=image/jpeg:https://dekanat-heilbronn-neckarsulm.de/wp-content/uploads/2025/12/Schimmer-Mein_1.jpeg
END:VEVENT
BEGIN:VEVENT
DTSTART;TZID=Europe/Berlin:20260503T100000
DTEND;TZID=Europe/Berlin:20260503T100000
DTSTAMP:20260420T100540
CREATED:20260112T082143Z
LAST-MODIFIED:20260112T085428Z
UID:17742-1777802400-1777802400@dekanat-heilbronn-neckarsulm.de
SUMMARY:Die Glaubensentdecker - Mit Petrus und Paulus unterwegs
DESCRIPTION:Gemeinsam glauben\, spielen\, entdecken \nMit gemeinsamem Frühstuck \nJeden 1. Sonntag im Monat um 10 Uhr\nGemeindehaus Peter und Paul\, Fischergasse 6\, 74072 Heilbronn\nEinfach vorbeischauen. Bei Fragen bitte über das Pfarrbüro: StPeterundPaul.HN@drs.de \nFür Kinder und Jugendliche von 9 – 14 Jahren. Nach der Erstkommunion – aber der Weg geht weiter. \nTermine für 2026: \n01.02.26\, 01.03.26\, 05.04.26\n03.05.26\, 07.06.26\, 05.07.26\, 02.08.26\,\n06.09.26\, 04.10.26\, 01.11.26\, 06.12.26
URL:https://dekanat-heilbronn-neckarsulm.de/veranstaltung/die-glaubensentdecker-mit-petrus-und-paulus-unterwegs-4/
LOCATION:Kath. Gemeindehaus St. Peter und Paul\, Heilbronn\, Fischergasse 3\, Heilbronn\, 74072
CATEGORIES:Kinder und Familien
ATTACH;FMTTYPE=image/png:https://dekanat-heilbronn-neckarsulm.de/wp-content/uploads/2026/01/2026_Homepage_Vorschau_Glaubensentdecker.png
END:VEVENT
END:VCALENDAR