BEGIN:VCALENDAR
VERSION:2.0
PRODID:-//Dekanat Heilbronn-Neckarsulm - ECPv6.15.20//NONSGML v1.0//EN
CALSCALE:GREGORIAN
METHOD:PUBLISH
X-ORIGINAL-URL:https://dekanat-heilbronn-neckarsulm.de
X-WR-CALDESC:Veranstaltungen für Dekanat Heilbronn-Neckarsulm
REFRESH-INTERVAL;VALUE=DURATION:PT1H
X-Robots-Tag:noindex
X-PUBLISHED-TTL:PT1H
BEGIN:VTIMEZONE
TZID:Europe/Berlin
BEGIN:DAYLIGHT
TZOFFSETFROM:+0100
TZOFFSETTO:+0200
TZNAME:CEST
DTSTART:20250330T010000
END:DAYLIGHT
BEGIN:STANDARD
TZOFFSETFROM:+0200
TZOFFSETTO:+0100
TZNAME:CET
DTSTART:20251026T010000
END:STANDARD
BEGIN:DAYLIGHT
TZOFFSETFROM:+0100
TZOFFSETTO:+0200
TZNAME:CEST
DTSTART:20260329T010000
END:DAYLIGHT
BEGIN:STANDARD
TZOFFSETFROM:+0200
TZOFFSETTO:+0100
TZNAME:CET
DTSTART:20261025T010000
END:STANDARD
BEGIN:DAYLIGHT
TZOFFSETFROM:+0100
TZOFFSETTO:+0200
TZNAME:CEST
DTSTART:20270328T010000
END:DAYLIGHT
BEGIN:STANDARD
TZOFFSETFROM:+0200
TZOFFSETTO:+0100
TZNAME:CET
DTSTART:20271031T010000
END:STANDARD
END:VTIMEZONE
BEGIN:VEVENT
DTSTART;TZID=Europe/Berlin:20260504T160000
DTEND;TZID=Europe/Berlin:20260504T180000
DTSTAMP:20260420T112910
CREATED:20240925T132120Z
LAST-MODIFIED:20260209T074508Z
UID:14420-1777910400-1777917600@dekanat-heilbronn-neckarsulm.de
SUMMARY:Zwischendrin
DESCRIPTION:Herzliche Einladung! \nAm ersten Montag im Monat bieten wir eine Austauschrunde zur Religiösen Bildung an. \nFür ca. zwei Stunden wollen wir zwischen 16:00 und 18:00 Uhr (nach der Arbeit des Tages und vor dem erholsamen Feierabend) Gemeinschaft genießen\, kreativ werden\, uns austauschen\, uns über neue Medien informieren lassen\, kollegiale Bera­tung pflegen\, uns über Themen und aktuelle Entwicklungen rund um religiöse Bildung informieren. \nDie Veranstaltung ist für alle Lehrkräfte\, Menschen\, die mit Kindern und Jugendlichen in Schule und Kirchengemeinde religionspädagogisch\, seelsorgerlich oder katechetisch arbeiten\, und alle Interessierte. \nUnsere nächsten Termine finden Sie unten. Kurz vor dem nächsten Termin veröffentlichen wir das Thema des Abends unter Aktuelles. \nWeitere Termine im Schuljahr 2026: 09.03.2026\, 04.05.2026\, 08.06.2026\, 06.07.2026.
URL:https://dekanat-heilbronn-neckarsulm.de/veranstaltung/zwischendrin-05/
LOCATION:rpi im Heinrich-Fries-Haus\, Bahnhofstr. 13\, Heilbronn\, 74072
CATEGORIES:Kirche und Schule, Schulpastoral,Religionspädagogik
ATTACH;FMTTYPE=image/png:https://dekanat-heilbronn-neckarsulm.de/wp-content/uploads/2024/09/Zwischendrin_Logo_Runder_Zuschnitt.png
ORGANIZER;CN="rpi in Kooperation mit der Fachstelle Kirche und Schule & Schulpastoral":MAILTO:rpi.hn@drs.de
END:VEVENT
END:VCALENDAR