BEGIN:VCALENDAR
VERSION:2.0
PRODID:-//Dekanat Heilbronn-Neckarsulm - ECPv6.15.20//NONSGML v1.0//EN
CALSCALE:GREGORIAN
METHOD:PUBLISH
X-ORIGINAL-URL:https://dekanat-heilbronn-neckarsulm.de
X-WR-CALDESC:Veranstaltungen für Dekanat Heilbronn-Neckarsulm
REFRESH-INTERVAL;VALUE=DURATION:PT1H
X-Robots-Tag:noindex
X-PUBLISHED-TTL:PT1H
BEGIN:VTIMEZONE
TZID:Europe/Berlin
BEGIN:DAYLIGHT
TZOFFSETFROM:+0100
TZOFFSETTO:+0200
TZNAME:CEST
DTSTART:20240331T010000
END:DAYLIGHT
BEGIN:STANDARD
TZOFFSETFROM:+0200
TZOFFSETTO:+0100
TZNAME:CET
DTSTART:20241027T010000
END:STANDARD
BEGIN:DAYLIGHT
TZOFFSETFROM:+0100
TZOFFSETTO:+0200
TZNAME:CEST
DTSTART:20250330T010000
END:DAYLIGHT
BEGIN:STANDARD
TZOFFSETFROM:+0200
TZOFFSETTO:+0100
TZNAME:CET
DTSTART:20251026T010000
END:STANDARD
BEGIN:DAYLIGHT
TZOFFSETFROM:+0100
TZOFFSETTO:+0200
TZNAME:CEST
DTSTART:20260329T010000
END:DAYLIGHT
BEGIN:STANDARD
TZOFFSETFROM:+0200
TZOFFSETTO:+0100
TZNAME:CET
DTSTART:20261025T010000
END:STANDARD
END:VTIMEZONE
BEGIN:VTIMEZONE
TZID:UTC
BEGIN:STANDARD
TZOFFSETFROM:+0000
TZOFFSETTO:+0000
TZNAME:UTC
DTSTART:20240101T000000
END:STANDARD
END:VTIMEZONE
BEGIN:VEVENT
DTSTART;VALUE=DATE:20250904
DTEND;VALUE=DATE:20250912
DTSTAMP:20260420T150507
CREATED:20250224T133657Z
LAST-MODIFIED:20250224T134158Z
UID:15480-1756944000-1757635199@dekanat-heilbronn-neckarsulm.de
SUMMARY:Reise zu den Wurzeln des Glaubensbekenntnisses vom 04.09.-11.09.2025
DESCRIPTION:Herzliche Einladung zu dieser besonderen Reise in die heutige Türkei und zur Spurensuche an den antiken Stätten von Konstantinopel\, Chalkedon\, Nizäa\, Pergamon\, Milet\, Ephesos und Smyrna. \nGeistliche Leitung: Pfarrer OIiver Westerhold\, Katholisch im Zabergäu \nProgramm und Reisepreis\nBitte entnehmen Sie das Programm nach aktuellem Stand der Homepage der Kirchengemeinde: https://www.kath-kirche-zabergaeu.de/1700-jahre-glaubensbekenntnis/ \nDie Ausschreibung als Download\nIhre Anmeldung zur Gruppenreise als Download\n  \nKontakt für Rückfragen: Pfarrer Oliver Westerhold
URL:https://dekanat-heilbronn-neckarsulm.de/veranstaltung/2025-09_reise-glaubensbekenntnis/
CATEGORIES:Besondere Spirituelle Angebote,Frauen,Männer,Ökumene,Pilgern,Reisen,Senioren,Spiritualität
ATTACH;FMTTYPE=image/jpeg:https://dekanat-heilbronn-neckarsulm.de/wp-content/uploads/2025/02/banner4-3-800x600-1.jpg
ORGANIZER;CN="Katholisch im Zaberg%C3%A4u":MAILTO:aufbruch@kath-kirche-zabergaeu.de
END:VEVENT
BEGIN:VEVENT
DTSTART;TZID=Europe/Berlin:20250904T183000
DTEND;TZID=Europe/Berlin:20250904T183000
DTSTAMP:20260420T150507
CREATED:20250224T163242Z
LAST-MODIFIED:20250304T121417Z
UID:15532-1757010600-1757010600@dekanat-heilbronn-neckarsulm.de
SUMMARY:Taizé-Gebet in der Weissenhofkirche
DESCRIPTION:am 1. Donnerstag des Monats um 18:30 Uhr\nTermine 2025: 04.09. – 02.10. – 06.11. – 04.12. \n \nTaizé-Gebet\nZur Ruhe kommen\,\neintauchen in eine besondere Atmosphäre\nmit den meditativen Gesängen aus Taizé.\nGesang und Instrumentenklang\nWarme Farben und sanftes Licht\nImpulse und Gebet\nStille und Gemeinschaft\nZur eigenen Mitte finden \nDas Taizé-Gebet findet immer am 1.Donnerstag des Monats statt\, außer feiertags\, um 18:30 Uhr in der Weissenhofkirche im Klinikum am Weissenhof\nin Weinsberg. \nAuch Gäste von außerhalb sind herzlich dazu eingeladen. \nInhaltlich und musikalisch gestaltet von Klinikseelsorgerin Irene Anic (Gitarre\, Gesang)\, Katrin Laxy (Flöten) und Marina Hohl (E-Bass). \nTaize 2025 Flyer Weissenhof zum Download
URL:https://dekanat-heilbronn-neckarsulm.de/veranstaltung/taize-gebet-in-der-weissenhofkirche-6/
LOCATION:Weissenhofkirche\, Weinsberg\, Klinikum am Weissenhof\, Weinsberg\, 74189
CATEGORIES:Frauen,Männer,Ökumene,Senioren,Taize
ATTACH;FMTTYPE=image/png:https://dekanat-heilbronn-neckarsulm.de/wp-content/uploads/2025/02/Taize_Gebet_Dekanat_Weissenhof_Quadrat_Vorschau_Homepage.png
ORGANIZER;CN="Klinikseelsorge am Weissenhof":MAILTO:i.anic@klinikum-weissenhof.de
END:VEVENT
BEGIN:VEVENT
DTSTART;TZID=Europe/Berlin:20250912T160000
DTEND;TZID=Europe/Berlin:20250914T143000
DTSTAMP:20260420T150507
CREATED:20250113T081511Z
LAST-MODIFIED:20250113T081532Z
UID:15225-1757692800-1757860200@dekanat-heilbronn-neckarsulm.de
SUMMARY:Gemeinsam unterwegs - Wochenende der Frauenkirche Weinsberg
DESCRIPTION:Herzliche Einladung zum Wochenende im Tagungshaus Schönenberg in Ellwangen. \nVon Freitag\, 12. September\, um 16:00 Uhr bis Sonntag\, 14. September\, um 14:30 Uhr sind wir gemeinsam unterwegs. \nWeitere Informationen erhältst Du per Mail FrauenKirche-StJosef-Weinsberg@t-online.de oder auf der Homepage se-weinsberg-wimmental.de. \nJahresplan 2025 Frauenkirche Weinsberg zum Download \n 
URL:https://dekanat-heilbronn-neckarsulm.de/veranstaltung/2025_wochenende_frauenkirche_wb/
CATEGORIES:Frauen
ATTACH;FMTTYPE=image/png:https://dekanat-heilbronn-neckarsulm.de/wp-content/uploads/2025/01/2025_Vorschau_Homepage_Frauenkirche.png
ORGANIZER;CN="Frauenkirche St. Josef Weinsberg":MAILTO:FrauenKirche-StJosef-Weinsberg@t-online.de
END:VEVENT
BEGIN:VEVENT
DTSTART;TZID=Europe/Berlin:20250914T180000
DTEND;TZID=Europe/Berlin:20250914T184500
DTSTAMP:20260420T150507
CREATED:20250122T152050Z
LAST-MODIFIED:20250122T152059Z
UID:15362-1757872800-1757875500@dekanat-heilbronn-neckarsulm.de
SUMMARY:Taizé-Gebet in Höchstberg
DESCRIPTION:Wir treffen uns am Sonntag\, 14. September\, von 18:00 – 18:45 Uhr in der Wallfahrtskirche Höchstberg. \nGäste sind herzlich willkommen. \n \nPlakat zum Download
URL:https://dekanat-heilbronn-neckarsulm.de/veranstaltung/taize-gebet-in-hoechstberg-8/
LOCATION:Wallfahrtskirche St. Maria Höchstberg\, Kappelweg 38\, Gundelsheim-Höchstberg\, 74831
CATEGORIES:Besondere Spirituelle Angebote,Frauen,Männer,Ökumene,Senioren,Taize
ATTACH;FMTTYPE=image/png:https://dekanat-heilbronn-neckarsulm.de/wp-content/uploads/2025/01/Taize_Gebet_Dekanat_Hoechstberg_Quadrat_Vorschau_Homepage.png
ORGANIZER;CN="Seelsorgeeinheit Krumme Ebene%2C Gundelsheim":MAILTO:StNikolaus.Gundelsheim@drs.de
END:VEVENT
BEGIN:VEVENT
DTSTART;TZID=Europe/Berlin:20250915T080000
DTEND;TZID=Europe/Berlin:20250915T170000
DTSTAMP:20260420T150507
CREATED:20250227T073314Z
LAST-MODIFIED:20250515T075120Z
UID:15596-1757923200-1757955600@dekanat-heilbronn-neckarsulm.de
SUMMARY:Anmeldeschluss - Ausbildungskurs zur Mitarbeit im ehrenamtlichen Besuchsdienst
DESCRIPTION:Die Klinikseelsorge für die SLK-Kliniken in Heilbronn\, Bad Friedrichshall und Löwenstein bietet für Interessierte einen neuen Ausbildungskurs zur Mitarbeit im ehrenamtlichen Besuchsdienst an. \nDieser KESS-Kurs beginnt im Oktober 2025. KESS steht für „Kurse für ehrenamtliche Seelsorgerinnen und Seelsorger“. An 11 Abenden und 3 Kompaktwochenenden\, verteilt über ein Jahr\, bekommen die Teilnehmer eine intensive Klinikseelsorge-Ausbildung. Die Kursteilnehmer sollten der psychologischen Arbeit gegenüber aufgeschlossen und bereit sein\, sich selbst zu reflektieren. Die Themen reichen von Gesprächsführung über Spiritualität bis hin zur Auseinandersetzung mit der eigenen Person und deren Prägungen. Learning by doing – schon früh beginnen die Teilnehmenden mit Krankenbesuchen und reflektieren ihre Erfahrungen im Kurs. \nBewerberinnen und Bewerber verpflichten sich\, nach Abschluss des Kurses zwei Jahre lang etwa 2-3 Stunden pro Woche im Besuchsdienst mitzuarbeiten. Die Kurskosten werden zum großen Teil von der Klinik\, der evang. Kirche und der kath. Kirche getragen. Eigenbeteiligung: 124\,- €. \nAm Mittwoch\, den 22. Oktober 2025 findet ein Informationsabend für Angemeldete mit Auswahlgesprächen im SLK-Klinikum am Gesundbrunnen Heilbronn statt. \nAnmeldeschluss: 15. September 2025. Anmeldung bitte senden an: Seminar für Seelsorge-Fortbildung\, Haus Birkach\, Grüninger Str.25 in 70599 Stuttgart. \nAusführliche Informationen mit Anmeldeblatt im Internet unter: https://www.seminar-seelsorge-fortbildung.de/ehrenamtliche/aktuelle-kurse \n  \nKontaktpersonen: \nSLK-Klinikum am Gesundbrunnen Heilbronn\nSiegfried Fischer\, Klinikseelsorger\, Tel.: 07131/49-40713\, Mail: siegfried.fischer@slk-kliniken.de\nDr. Mirjana Juranovic\, Klinikseelsorgerin\, Tel.:07131/49-40711\, Mail: mirjana.juranovic@slk-kliniken.de \nSLK-Klinikum am Plattenwald Bad Friedrichshall\nKlaus Aller\, Klinikseelsorger\, Tel.: 07136/28-40700\, Mail: klaus.aller@slk-kliniken.de\nBernhard Meyer\, Klinikseelsorger\, Tel.: 07136/28-40701\, Mail: bernhard.meyer@slk-kliniken.de \nSLK-Fachklinik Löwenstein\nMichael Vetter\, Klinikseelsorger\, Tel.: 07134/90-4077\, Mail: michael.vetter@slk-kliniken.de
URL:https://dekanat-heilbronn-neckarsulm.de/veranstaltung/2025_kess_hn/
CATEGORIES:Bildungsangebote,Ehrenamtliche,Frauen,Klinikseelsorge,Männer,Seelsorge,Senioren
ATTACH;FMTTYPE=image/png:https://dekanat-heilbronn-neckarsulm.de/wp-content/uploads/2025/02/2025_Vorschau_Homepage_Klinikseelsorge.png
END:VEVENT
BEGIN:VEVENT
DTSTART;TZID=Europe/Berlin:20250919T180000
DTEND;TZID=Europe/Berlin:20250919T210000
DTSTAMP:20260420T150507
CREATED:20250715T130249Z
LAST-MODIFIED:20250715T130249Z
UID:16948-1758304800-1758315600@dekanat-heilbronn-neckarsulm.de
SUMMARY:Präventionsschulung
DESCRIPTION:Zur Anmeldung
URL:https://dekanat-heilbronn-neckarsulm.de/veranstaltung/praeventionsschulung-2/
LOCATION:Kath. Gemeindehaus\, Bad Mergentheim\, Marienstr. 1\, Bad Mergentheim\, 97980
CATEGORIES:Bildungsangebote,Ehrenamtliche,Frauen,Hauptamtliche,Junge_Erwachsene,Kinder und Familien,Männer,Ökumene,Senioren
ATTACH;FMTTYPE=image/png:https://dekanat-heilbronn-neckarsulm.de/wp-content/uploads/2025/07/Praevention-A6-Flyer-3.png
END:VEVENT
BEGIN:VEVENT
DTSTART;TZID=Europe/Berlin:20250920T193000
DTEND;TZID=Europe/Berlin:20250920T193000
DTSTAMP:20260420T150507
CREATED:20250919T084605Z
LAST-MODIFIED:20250919T084802Z
UID:17147-1758396600-1758396600@dekanat-heilbronn-neckarsulm.de
SUMMARY:Lebe - liebe - lache - Einladung zum Spielen
DESCRIPTION:
URL:https://dekanat-heilbronn-neckarsulm.de/veranstaltung/spieleabend/
LOCATION:Kath. Pauluszentrum Lauffen\, Schillerstr. 45\, Lauffen am Neckar\, 74348
CATEGORIES:Frauen,Männer,Senioren
ATTACH;FMTTYPE=image/png:https://dekanat-heilbronn-neckarsulm.de/wp-content/uploads/2025/09/Spieleabend_Lauffen-scaled.png
ORGANIZER;CN="Katholische Kirchengemeinde St. Franziskus%2C Lauffen a. N.":MAILTO:stfranziskus.lauffenamneckar@drs.de
END:VEVENT
BEGIN:VEVENT
DTSTART;TZID=Europe/Berlin:20250921T111500
DTEND;TZID=Europe/Berlin:20250921T111500
DTSTAMP:20260420T150507
CREATED:20250917T045047Z
LAST-MODIFIED:20250917T045117Z
UID:17124-1758453300-1758453300@dekanat-heilbronn-neckarsulm.de
SUMMARY:Gottesdienst aller Deutschordensgemeinden des Dekanats Heilbronn-Neckarsulm mit Begegnungsfest
DESCRIPTION:Sonntag\, 21. 09. 2025\, 11:15 Uhr \nGroßer Deutschhof\, Kirchbrunnenstraße\, 74072 Heilbronn \nBei hoffentlich schönem Wetter feiern wir gemeinsam mit allen Deutschordensgemeinden des Dekanats unter freiem Himmel. \nBeim anschließenden Begegnungsfest ist Möglichkeit zum fröhlichen Beisammensein.
URL:https://dekanat-heilbronn-neckarsulm.de/veranstaltung/gottesdienst-aller-deutschordensgemeinden/
LOCATION:Deutschhof Innenhof\, Deutschhofstraße\, Heilbronn
CATEGORIES:Besondere_Gottesdienste,Ehrenamtliche,Frauen,Hauptamtliche,Junge_Erwachsene,Kinder und Familien,Männer,Senioren
ATTACH;FMTTYPE=image/png:https://dekanat-heilbronn-neckarsulm.de/wp-content/uploads/2025/09/vlcsnap-2025-09-17-06h36m06s767-Kopie.png
END:VEVENT
BEGIN:VEVENT
DTSTART;TZID=Europe/Berlin:20250922T090000
DTEND;TZID=Europe/Berlin:20250922T100000
DTSTAMP:20260420T150507
CREATED:20250722T093212Z
LAST-MODIFIED:20250722T093222Z
UID:17006-1758531600-1758535200@dekanat-heilbronn-neckarsulm.de
SUMMARY:Semesterstartgottesdienst
DESCRIPTION:Montag\, 22. September 2025\, um 9:00 Uhr an der Hochschule Heilbronn. \nKontakt für Rückfragen: seelsorge-hn@hs-heilbronn.de
URL:https://dekanat-heilbronn-neckarsulm.de/veranstaltung/semesterstartgottesdienst/
CATEGORIES:Besondere_Gottesdienste,Jugendspiritualität,Junge_Erwachsene
ATTACH;FMTTYPE=image/png:https://dekanat-heilbronn-neckarsulm.de/wp-content/uploads/2025/07/vorschau_hp_kirche-am-campus.png
END:VEVENT
BEGIN:VEVENT
DTSTART;TZID=Europe/Berlin:20250923T154500
DTEND;TZID=Europe/Berlin:20250923T220000
DTSTAMP:20260420T150507
CREATED:20250722T121907Z
LAST-MODIFIED:20250909T141629Z
UID:17025-1758642300-1758664800@dekanat-heilbronn-neckarsulm.de
SUMMARY:[AUS:ZEIT = BERG:ZEIT]
DESCRIPTION:Zum Beginn des Winterhalbjahres wollen wir euch die Umgebung von Heilbronn zeigen. Dabei kannst Du neue Kontakte knüpfen und tolle Ausflugsziele kennen lernen. Der BERG ist ein Spirituelles Zentrum\, das Dir als Rückzugsort dient. Solltest du mal in einer stressigen Phase stecken\, kannst du bei uns Kraft tanken und\nzur Ruhe kommen. Wir werden zusammen eine leichte Wanderung unternehmen und mit einem entspannten Zusammensein den Abend ausklingen lassen. \nDu benötigst kein professionelles Wanderequipment. Wir empfehlen dir feste Schuhe und wetterangepasste Kleidung. \nFür Getränke und Snacks ist gesorgt. Die Teilnahme ist kostenfrei. \nDatum: Donnerstag\, 2. Oktober 2025 \nAbfahrt Heilbronn: 15:45 Uhr\nStart auf dem Michaelsberg: 17:00 Uhr \nBitte melde dich bis 30.09.2025 an. \n>> Hier anmelden << \nSarah Oel\, Rivka Schunk\, Michael Dieterle und Sarah Harst freuen sich auf Dich! \n  \nBei Fragen wende dich direkt an\nSarah Oel\, Bildungsreferentin junge Erwachsene DerBERG\, soel@bdkj-bja.drs.de\nMichael Dieterle und Rivka Schunk\, Kirche am Campus Heilbronn\, seelsorge-hn@hs-heilbronn.de\nSarah Harst\, Kath. Dekanat Heilbronn-Neckarsulm\, Sarah.Harst@drs.de
URL:https://dekanat-heilbronn-neckarsulm.de/veranstaltung/auszeit-bergzeit/
LOCATION:Jugendspirituelles Zentrum Michaelsberg\, Cleebronn\, Michaelsberg 1\, Cleebronn\, 74389
CATEGORIES:Jugendspiritualität,Junge_Erwachsene,Wallfahrt
ATTACH;FMTTYPE=image/jpeg:https://dekanat-heilbronn-neckarsulm.de/wp-content/uploads/2025/07/DJI_0108l_BERG_Quadrat.jpg
ORGANIZER;CN="DerBERG %E2%80%93 Jugendspirituelles Zentrum Michaelsberg":MAILTO:der-berg.cleebronn@drs.de
END:VEVENT
BEGIN:VEVENT
DTSTART;TZID=Europe/Berlin:20250923T160000
DTEND;TZID=Europe/Berlin:20250923T190000
DTSTAMP:20260420T150507
CREATED:20250722T093749Z
LAST-MODIFIED:20250804T141757Z
UID:17010-1758643200-1758654000@dekanat-heilbronn-neckarsulm.de
SUMMARY:Welcome Walk - Highlights von Heilbronn
DESCRIPTION:Lerne die Heilbronner Innenstadt und neue Leute kennen. \nTriff die Ansprechpersonen der Kirche am Campus\, ehemalige und aktuelle Studierende und lass dir ein paar sehenswerte Ecken in Heilbronn zeigen. \nVon Cafés über Dönerbuden.\nVon Kirchen bis Rathaus und Marktplatz.\nEin paar unserer Lieblingslokale.\nWir steigen auf den Kiliansturm und schauen wir uns Heilbronn von oben an. \nTreffpunkt: Dienstag\, 23. September um 16:00 Uhr\, Bildungscampus 14\, vorm T-Gebäude \nDu brauchst Dich nicht anzumelden. Der Welcome-Walk ist kostenlos. \nKomm einfach vorbei am Dienstag\, 23. September.\nWir starten um 16 Uhr am Bildungscampus 14\, T-Gebäude.\nEnde ist gegen 19 Uhr in St. Peter und Paul Heilbronn. \nIm Anschluss besteht die Option selbstbezahlt gemeinsam Abendessen zu gehen. \nWir freuen uns auf Dich! \nMichael Dieterle\, Sarah Harst und Rivka Schunk
URL:https://dekanat-heilbronn-neckarsulm.de/veranstaltung/welcome-walk/
LOCATION:Bildungscampus
CATEGORIES:Junge_Erwachsene
ATTACH;FMTTYPE=image/png:https://dekanat-heilbronn-neckarsulm.de/wp-content/uploads/2025/07/vorschau_hp_kirche-am-campus.png
END:VEVENT
BEGIN:VEVENT
DTSTART;TZID=Europe/Berlin:20250923T190000
DTEND;TZID=Europe/Berlin:20250923T190000
DTSTAMP:20260420T150507
CREATED:20250917T052403Z
LAST-MODIFIED:20250917T052452Z
UID:17133-1758654000-1758654000@dekanat-heilbronn-neckarsulm.de
SUMMARY:Einführung zum Fernpilgern
DESCRIPTION:Auftakt für diesen Pilgertag ist bereits am Dienstag\, 23.9.2025 um 19 Uhr im Heinrich-Fries-Haus\, Heilbronn. \nAn diesem Abend wird Frau Regina Hagmann-Kuttruf von Ihren Erfahrungen als Fernpilgerin berichten und Tipps für die Vorbereitungen geben. Frau Hagmann-Kuttruf ist seit Jahren von HN-Sontheim nach Santiago de Compostela unterwegs. Sie meint\, dass Pilgerwanderungen bei richtiger Vorbereitung für jeden geeignet sind\, um sich selbst zu ordnen sowie über die Beziehung zu den Mitmenschen und zu Gott zu vertiefen. \nWer sich ab September auf einen Fernpilgerweg zum Grab des Hl. Martin in Tour machen will\, ist herzlich eingeladen. Bitte Anmelden bei Michael Dieterle michael.dieterle@ext.hs-heilbronn.de
URL:https://dekanat-heilbronn-neckarsulm.de/veranstaltung/einfuehrung-zum-fernpilgern/
LOCATION:Heinrich-Fries-Haus\, Bahnhofstraße 13 74072 Heilbronn
CATEGORIES:Bildungsangebote,Frauen,Männer,Pilgern,Reisen,Senioren
ATTACH;FMTTYPE=image/jpeg:https://dekanat-heilbronn-neckarsulm.de/wp-content/uploads/2025/09/Logo-Heiliges-Jahr2025-JPG-e1758086564860.jpeg
END:VEVENT
BEGIN:VEVENT
DTSTART;VALUE=DATE:20250924
DTEND;VALUE=DATE:20251127
DTSTAMP:20260420T150507
CREATED:20250627T113941Z
LAST-MODIFIED:20250627T114018Z
UID:16866-1758672000-1764201599@dekanat-heilbronn-neckarsulm.de
SUMMARY:Basiskurs Seelsorge
DESCRIPTION:Der Basiskurs Seelsorge ist ein neues digitales Angebot für alle\, die ihr Christsein im Alltag mit ihren Lieblingsmenschen\, aber auch in beruflichen\, ehrenamtlichen und zufälligen Begegnungen und Beziehungen leben wollen. \nWeitere Informationen und Termine sowie Informationen zum Selbstlernkurs: https://an-vielen-orten.de/basiskurs-seelsorge.html \nDer Basiskurs Seelsorge wurde von Dr. Christiane Bundschuh-Schramm in Zusammenarbeit mit qualifizierten Seelsorger:innen und Therapeut:innen entwickelt. \nBegleiteter Basiskurs Seelsorge\nBegleitet heißt: Es gibt einen gemeinsamen Start als Videokonferenz\, die individuelle Arbeit mit der Lernplattform wird durch weitere Videokonferenzen begleitet\, und dann folgt ein Präsenztag zum gemeinsamen Üben. Beim Präsenztag erleben die Teilnehmenden\, dass sie schon viel gelernt haben. Zum Schluss gibt es noch eine Videokonferenz für Rückblick und Ausblick. \nBegleiteter Basiskurs in der Region Nord-Ost 2025 \n\nStart: Mittwoch\, 24. September 2025 – 19.30 Uhr – 21.00 Uhr (online)\nIndividuelles Arbeiten mit der Lernplattform ab 25. September 2025\nBegleitende Videokonferenzen\, jeweils 19.30-20.30 Uhr\nDonnerstag\, 16. Oktober; Mittwoch\, 5. November; Mittwoch\, 12. November 2025 (online)\nPräsenztag auf dem Schönenberg: Samstag\, 15. November 2025 – 10.00 Uhr – 17.00 Uhr\nAbschluss: Mittwoch\, 26. November – 19.30 Uhr – 21.00 Uhr (online)\nRückfragen an: basiskursseelsorge@drs.de\n\nDie Anmeldung ist ab sofort möglich\, den Flyer zur Anmeldung finden Sie hier:\nWerbekarte mit digitaler Anmeldemöglichkeit Basiskurs Seelsorge 2025 Region Nord-Ost  \n\n\n\n\n\n 
URL:https://dekanat-heilbronn-neckarsulm.de/veranstaltung/basiskurs-seelsorge/
CATEGORIES:Bildungsangebote,Ehrenamtliche,Frauen,Männer,Online-Formate, Digitales,Seelsorge,Senioren
END:VEVENT
BEGIN:VEVENT
DTSTART;VALUE=DATE:20250926
DTEND;VALUE=DATE:20250928
DTSTAMP:20260420T150507
CREATED:20250627T114419Z
LAST-MODIFIED:20250627T115312Z
UID:16869-1758844800-1759017599@dekanat-heilbronn-neckarsulm.de
SUMMARY:Qualifizierung Sakramentenpastoral (Katechese)
DESCRIPTION:Auch 2025/2026 findet wieder ein vierteiliger Qualifizierungskurs Sakramentenpastoral (ehemals Katechese) statt. Er ist inzwischen etabliert und erfreut sich hoher Nachfrage. \nEr richtet sich an freiwillig Engagierte und ehrenamtliche Katecheseteams\, an Weitere Berufe im kirchlichen Dienst und an alle\, die ihr sakramentenpastorales Know how entwickeln wollen. \nHier findet Ihr die Ausschreibung. \nAnmeldung bzw. Bewerbung um Teilnahme ab sofort möglich.
URL:https://dekanat-heilbronn-neckarsulm.de/veranstaltung/qualifizierung-sakramentenpastoral-katechese/
CATEGORIES:Bildungsangebote,Ehrenamtliche,Frauen,Männer,Sakramente,Senioren,Spiritualität
END:VEVENT
BEGIN:VEVENT
DTSTART;VALUE=DATE:20250926
DTEND;VALUE=DATE:20251115
DTSTAMP:20260420T150507
CREATED:20241212T082322Z
LAST-MODIFIED:20250410T061132Z
UID:14999-1758844800-1763164799@dekanat-heilbronn-neckarsulm.de
SUMMARY:GEIST BEWEGT - Firmvorbereitung online
DESCRIPTION:Jetzt ist ein guter Zeitpunkt für mich!\nMein Leben ist gerade so\,\ndass ich mich stärken lassen will!\nIm Augenblick passt es und\nich möchte mich firmen lassen! \nHast du Lust dich mit Gleichgesinnten auf den Weg zu machen? Passt eine Online Vorbereitung am besten in deinen Zeitplan? Wir haben das passende Angebot für dich. Du brauchst Interesse und Lust und Zeit an allen drei Vorbereitungsterminen sowie am Firmtermin. \nVorbereitungstermine online\nImmer dienstags\n30.9.\, 7.10. und 14.10.2025\njeweils 19 – 21 Uhr \nNach deiner Anmeldung kontaktieren wir dich für ein digitales Kennenlerngespräch\, bei dem auch all deine Fragen geklärt werden können. Zunächst meldest du dich für die Vorbereitung an\, die Anmeldung zum Firmtermin geschieht\, wenn du möchtest\, in einem zweiten Schritt. \nWeitere Informationen und Anmeldung: www.ebfr.de/erwachsenenfirmung. Flyer zum Download: Link \nAnmeldeschluss: 26.09.2025 online hier. \nFirmtermin\n25.10.25 – Freiburg\n09.11.25 – Speyer\n14.11.25 – Stuttgart \nLaura Müller\, Tanja Rieger und Christiane Bundschuh-Schramm\n\nEine Kooperation der Bistümer\nFreiburg\, Speyer und Rottenburg-Stuttgart\n\n\n\n\n\n\n\n 
URL:https://dekanat-heilbronn-neckarsulm.de/veranstaltung/2025_firmvorbereitung-online/
CATEGORIES:Junge_Erwachsene,Sakramente
ATTACH;FMTTYPE=image/png:https://dekanat-heilbronn-neckarsulm.de/wp-content/uploads/2024/03/geist-bewegt_erwachsenenfirmung.png
END:VEVENT
BEGIN:VEVENT
DTSTART;TZID=UTC:20250927T093000
DTEND;TZID=UTC:20250927T160000
DTSTAMP:20260420T150507
CREATED:20240212T070445Z
LAST-MODIFIED:20250917T052028Z
UID:12331-1758965400-1758988800@dekanat-heilbronn-neckarsulm.de
SUMMARY:Samstagspilgern von Heilbronn nach Schwaigern
DESCRIPTION:Am Samstag\, 27.9.25 startet eine Pilgerwanderung von Heilbronn nach Schwaigern auf dem Martinusweg. Dazu laden die Martinusgemeinschaft der Diözese Rottenburg-Stuttgart und das Dekanat Heilbronn-Neckarsulm ein. Unter dem Motto Martin verbindet Menschen und Regionen: ein Tag auf dem Pilgerweg nach Tours  geht es um 09:30 Uhr am Deutschordensmünster St. Peter und Paul\, Heilbronn los. Rückkehr ist gegen 16 Uhr mit der Straßenbahn. Pilgern ist immer ein Weg zu sich selbst. Wir gehen eine erste Etappe auf dem Weg zum Hl. Martin von Tours und begegnen ihm auf verschiedenen Stationen seines Lebens. Wegbegleiter: Martin Borgmeyer (örtl. Pilgerbegleiter)\, Michael Dieterle (Pastoralreferent Kath. Hochschulgemeinde; Heilbronn) \nEine Anmeldung ist nicht erforderlich. Bei Fragen bitte an das Dieterle\, Michael michael.dieterle@ext.hs-heilbronn.de wenden. \nhttps://www.martinuswege.eu/veranstaltungskalender.php?dfxid=303 \nDas ganze Programm „Samstagspilgern auf dem Martinusweg“ finden Sie hier.
URL:https://dekanat-heilbronn-neckarsulm.de/veranstaltung/samstagspilgern-von-heilbronn-nach-schwaigern/
LOCATION:Deutschordensmünster St. Peter und Paul\, Heilbronn
CATEGORIES:Frauen,Männer,Pilgern,Senioren
ATTACH;FMTTYPE=image/jpeg:https://dekanat-heilbronn-neckarsulm.de/wp-content/uploads/2024/02/20230701_091427-scaled.jpg
ORGANIZER;CN="Dekanat Heilbronn-Neckarsulm":MAILTO:kathdekanat.hn@drs.de
END:VEVENT
BEGIN:VEVENT
DTSTART;TZID=Europe/Berlin:20250927T093000
DTEND;TZID=Europe/Berlin:20250927T160000
DTSTAMP:20260420T150507
CREATED:20250411T085933Z
LAST-MODIFIED:20250411T085942Z
UID:16533-1758965400-1758988800@dekanat-heilbronn-neckarsulm.de
SUMMARY:Martin verbindet Menschen und Regionen - ein Tag auf dem Pilgerweg nach Tours zum Hl. Martin
DESCRIPTION:Wir laden Sie ein zum Martinspilgern!\n\n\n\nSamstag\, 27.09.2025: von St. Peter und Paul Heilbronn nach Schwaigern\n\nThema: Martin verbindet Menschen und Regionen – ein Tag auf dem Pilgerweg nach Tours zum Hl. Martin\nBeginn: 9:30 Uhr an St. Peter und Paul\nEnde: ca. 16:00 Uhr bei St. Martinus Schwaigern\nWegstrecke: ca. 16 Kilometer\n\n\nAnsprechperson für Rückfragen: Michael Dieterle\, 07131/741-1104\, michael.dieterle@drs.de
URL:https://dekanat-heilbronn-neckarsulm.de/veranstaltung/2025-09_martinuspilgern/
LOCATION:Terrasse\, Deutschordensmünster St. Peter und Paul-Heilbronn\, Kirchbrunnenstraße 8\, Heilbronn\, 74072
CATEGORIES:Frauen,Männer,Ökumene,Pilgern,Senioren,Spiritualität
ATTACH;FMTTYPE=image/png:https://dekanat-heilbronn-neckarsulm.de/wp-content/uploads/2025/04/2025_Vorschau_Logo_Via_St_Martini_Martinuspilgern.png
ORGANIZER;CN="Dekanat Heilbronn-Neckarsulm":MAILTO:kathdekanat.hn@drs.de
END:VEVENT
END:VCALENDAR