BEGIN:VCALENDAR
VERSION:2.0
PRODID:-//Dekanat Heilbronn-Neckarsulm - ECPv6.15.20//NONSGML v1.0//EN
CALSCALE:GREGORIAN
METHOD:PUBLISH
X-WR-CALNAME:Dekanat Heilbronn-Neckarsulm
X-ORIGINAL-URL:https://dekanat-heilbronn-neckarsulm.de
X-WR-CALDESC:Veranstaltungen für Dekanat Heilbronn-Neckarsulm
REFRESH-INTERVAL;VALUE=DURATION:PT1H
X-Robots-Tag:noindex
X-PUBLISHED-TTL:PT1H
BEGIN:VTIMEZONE
TZID:Europe/Berlin
BEGIN:DAYLIGHT
TZOFFSETFROM:+0100
TZOFFSETTO:+0200
TZNAME:CEST
DTSTART:20240331T010000
END:DAYLIGHT
BEGIN:STANDARD
TZOFFSETFROM:+0200
TZOFFSETTO:+0100
TZNAME:CET
DTSTART:20241027T010000
END:STANDARD
BEGIN:DAYLIGHT
TZOFFSETFROM:+0100
TZOFFSETTO:+0200
TZNAME:CEST
DTSTART:20250330T010000
END:DAYLIGHT
BEGIN:STANDARD
TZOFFSETFROM:+0200
TZOFFSETTO:+0100
TZNAME:CET
DTSTART:20251026T010000
END:STANDARD
BEGIN:DAYLIGHT
TZOFFSETFROM:+0100
TZOFFSETTO:+0200
TZNAME:CEST
DTSTART:20260329T010000
END:DAYLIGHT
BEGIN:STANDARD
TZOFFSETFROM:+0200
TZOFFSETTO:+0100
TZNAME:CET
DTSTART:20261025T010000
END:STANDARD
END:VTIMEZONE
BEGIN:VEVENT
DTSTART;VALUE=DATE:20251201
DTEND;VALUE=DATE:20251225
DTSTAMP:20260420T112710
CREATED:20251120T145059Z
LAST-MODIFIED:20251121T065057Z
UID:17494-1764547200-1766620799@dekanat-heilbronn-neckarsulm.de
SUMMARY:Auf Empfang - Adventskalender
DESCRIPTION:Wir laden Sie ein\, zum Wernauer Adventskalender! \nDer digitale Wernauer Adventskalender besteht aus einer Mischung aus Video- und Textimpulsen sowie Aktionsvorschlägen für die Gruppenstunde oder den Freundeskreis. Täglich öffnet sich auf der Website spirinet.de – und parallel dazu auf dem Instagramkanal @derwernaueradventskalender – ein Türchen mit Gedanken\, Geschichten und Fragen. Junge Menschen erzählen\, wie sie die Wartezeit vor Weihnachten erleben\, was sie sich vom Advent erhoffen und was ihnen dabei hilft\, „auf Empfang“ zu sein – für Stille\, für Begegnungen\, für das\, was wirklich zählt und Sinn macht. \nDer digitale Adventskalender will Momente schaffen\, um bewusst hinzuhören: Denn im Lärm des Alltags und im Trubel der Adventszeit kündigt sich Weihnachten eher leise – kaum wahrnehmbar – an. Es gilt\, sensibel zu werden für die vielfältigen Potenziale\, die diese Wartezeit auf Weihnachten bietet – und seine Empfangsantennen auszufahren. \nDer inhaltliche rote Faden kreist um die drei Stichworte „warten“\, „hoffen“\, „gestalten“. „In der Adventszeit wird oft gezielt nach Spiritualität gesucht. Unser Adventskalender hilft genau dabei hinzuhören\, was andere junge Menschen so machen. Wie sie Advent erleben und entdecken und für sich selbst passend gestalten“\, erklärt Stefanie Walter\, Bildungsreferentin für Jugendspiritualität im Bischöflichen Jugendamt das Anliegen des Kalenders. \nEr richtet sich mit seinen Inhalten daher besonders an Jugendliche ab 13 Jahren und junge Erwachsene – entweder als Einzelperson oder als Jugendgruppe\, Schulklasse oder Freundeskreis. \nAuf dem Werbeplakat und den Werbekärtchen\, die zum Download auf bdkj.info/adventskalender stehen\, befinden sich zwei QR-Codes\, die auf die Website spirinet.de oder den Instagram-account @derwernaueradventskalender führen. Auf beiden Plattformen werden die gleichen Inhalte veröffentlicht. „Egal für welchen Zugang man sich entscheidet – das Anklicken wird zu einem Stopp-Moment\, der zum Durchschnaufen verhilft“\, hofft Walter. „Und vielleicht regt er dazu an\, die eigenen Empfangsmethoden in die Kommentarspalte zu schreiben.“\nDer Wernauer Adventskalender öffnet seine virtuellen Türchen auf spirinet.de oder dem Instagram-Account @derwernaueradventskalender. \n \nText: Elke Dischinger\, Stabstelle Öffentlichkeitsarbeit BDKJ/BJA\, 10.11.2025\, PRESSEMITTEILUNG
URL:https://dekanat-heilbronn-neckarsulm.de/veranstaltung/auf-empfang-adventskalender/
LOCATION:online
CATEGORIES:Besondere Spirituelle Angebote,Frauen,Jugendliche,Jugendspiritualität,Junge_Erwachsene,Männer,Online-Formate, Digitales
END:VEVENT
BEGIN:VEVENT
DTSTART;TZID=Europe/Berlin:20251201T170000
DTEND;TZID=Europe/Berlin:20251201T190000
DTSTAMP:20260420T112710
CREATED:20240925T131729Z
LAST-MODIFIED:20251021T133908Z
UID:14408-1764608400-1764615600@dekanat-heilbronn-neckarsulm.de
SUMMARY:Zwischendrin
DESCRIPTION:Herzliche Einladung! \nAm ersten Montag im Monat bieten wir eine Austauschrunde zur Religiösen Bildung an. \nFür ca. zwei Stunden wollen wir zwischen 17:00 und 19:00 Uhr (nach der Arbeit des Tages und vor dem erholsamen Feierabend) Gemeinschaft genießen\, kreativ werden\, uns austauschen\, uns über neue Medien informieren lassen\, kollegiale Bera­tung pflegen\, uns über Themen und aktuelle Entwicklungen rund um religiöse Bildung informieren. \nDie Veranstaltung ist für alle Lehrkräfte\, Menschen\, die mit Kindern und Jugendlichen in Schule und Kirchengemeinde religionspädagogisch\, seelsorgerlich oder katechetisch arbeiten\, und alle Interessierte. \nUnsere nächsten Termine finden Sie unten. Kurz vor dem nächsten Termin veröffentlichen wir das Thema des Abends unter Aktuelles. \nWeitere Termine im Schuljahr 2025/26: 06.10.2025\, 03.11.2025\, 01.12.2025\, 02.02.2026\, 09.03.2026\, 04.05.2026\, 08.06.2026\, 06.07.2026. \n \n 
URL:https://dekanat-heilbronn-neckarsulm.de/veranstaltung/zwischendrin-12/
LOCATION:rpi im Heinrich-Fries-Haus\, Bahnhofstr. 13\, Heilbronn\, 74072
CATEGORIES:Kirche und Schule, Schulpastoral,Religionspädagogik
ATTACH;FMTTYPE=image/png:https://dekanat-heilbronn-neckarsulm.de/wp-content/uploads/2024/09/Zwischendrin_Logo_Runder_Zuschnitt.png
ORGANIZER;CN="rpi in Kooperation mit der Fachstelle Kirche und Schule & Schulpastoral":MAILTO:rpi.hn@drs.de
END:VEVENT
BEGIN:VEVENT
DTSTART;VALUE=DATE:20251203
DTEND;VALUE=DATE:20251223
DTSTAMP:20260420T112710
CREATED:20251021T075055Z
LAST-MODIFIED:20251021T075055Z
UID:17283-1764720000-1766447999@dekanat-heilbronn-neckarsulm.de
SUMMARY:Sternstunden im Advent
DESCRIPTION:
URL:https://dekanat-heilbronn-neckarsulm.de/veranstaltung/sternstunden-im-advent-2/
LOCATION:Neckarsulmer Winterdorf
CATEGORIES:Besondere Spirituelle Angebote,Frauen,Kinder und Familien,Männer,Stadtkirche
END:VEVENT
BEGIN:VEVENT
DTSTART;TZID=Europe/Berlin:20251204T183000
DTEND;TZID=Europe/Berlin:20251204T183000
DTSTAMP:20260420T112710
CREATED:20250224T163431Z
LAST-MODIFIED:20250304T114943Z
UID:15541-1764873000-1764873000@dekanat-heilbronn-neckarsulm.de
SUMMARY:Taizé-Gebet in der Weissenhofkirche
DESCRIPTION:am 1. Donnerstag des Monats um 18:30 Uhr\nTermine 2025: 04.12. \n \nTaizé-Gebet\nZur Ruhe kommen\,\neintauchen in eine besondere Atmosphäre\nmit den meditativen Gesängen aus Taizé.\nGesang und Instrumentenklang\nWarme Farben und sanftes Licht\nImpulse und Gebet\nStille und Gemeinschaft\nZur eigenen Mitte finden \nDas Taizé-Gebet findet immer am 1.Donnerstag des Monats statt\, außer feiertags\, um 18:30 Uhr in der Weissenhofkirche im Klinikum am Weissenhof\nin Weinsberg. \nAuch Gäste von außerhalb sind herzlich dazu eingeladen. \nInhaltlich und musikalisch gestaltet von Klinikseelsorgerin Irene Anic (Gitarre\, Gesang)\, Katrin Laxy (Flöten) und Marina Hohl (E-Bass). \nTaize 2025 Flyer Weissenhof zum Download \n \n 
URL:https://dekanat-heilbronn-neckarsulm.de/veranstaltung/taize-gebet-in-der-weissenhofkirche-9/
LOCATION:Weissenhofkirche\, Weinsberg\, Klinikum am Weissenhof\, Weinsberg\, 74189
CATEGORIES:Frauen,Männer,Ökumene,Senioren,Taize
ATTACH;FMTTYPE=image/png:https://dekanat-heilbronn-neckarsulm.de/wp-content/uploads/2025/02/Taize_Gebet_Dekanat_Weissenhof_Quadrat_Vorschau_Homepage.png
ORGANIZER;CN="Klinikseelsorge am Weissenhof":MAILTO:i.anic@klinikum-weissenhof.de
END:VEVENT
BEGIN:VEVENT
DTSTART;TZID=Europe/Berlin:20251206T190000
DTEND;TZID=Europe/Berlin:20251206T190000
DTSTAMP:20260420T112710
CREATED:20241106T085703Z
LAST-MODIFIED:20251118T081453Z
UID:14779-1765047600-1765047600@dekanat-heilbronn-neckarsulm.de
SUMMARY:Konzert im Advent mit der christlichen Musikgruppe RISING
DESCRIPTION:Auch dieses Jahr lädt RISING wieder nach Neuenstadt mit ihrem neuen Konzertprogramm im Advent „anders als erwartet“ ein. \nUnsere hohen Erwartungen an eine besondere Zeit im Jahr und dabei maximal weihnachtlich gestimmt zu sein\, konfrontieren uns allzu oft mit dem Alltag\, der uns häufig schonungslos gefangen nimmt. Mit unseren Ängsten\, Herausforderungen\, Nöten und Fragen an die Welt im Gepäck sehnen wir uns nach adventlicher Besinnung\, nach Auftanken und Kraft schöpfen.\nGenau dann will RISING einladen\, dem Advent nicht nur mit Glitzer\, Weihnachtsevent und Hamsterrad zu begegnen. \nRISING schreibt Lieder und Texte\, die in dieser schnelllebigen Zeit Hoffnung und Mut machen. Schwungvoll und mit viel Lebensfreude singen sie Lieder von Gott und der Welt\, von Glaubensbotschaften und Herzensangelegenheiten.\nSeit 40 Jahren nun versteht sich die Musikgruppe als Wegbegleiter mit lebensnaher Musik im christlichen Glauben verwurzelt. Sie gibt ihren Glaubens- und Lebensfragen Ton und Stimme und ist in Kirchen und Gemeinden unterwegs\, um Menschen zu ermutigen\, die Kraftquelle unseres christlichen Glaubens zu erfahren und zu teilen. \nDas diesjährige Konzert findet am Samstag\, 6. Dezember 2025 um 19:00 Uhr in der Kath. Kirche Zum Guten Hirten in Neuenstadt statt. \nDie Kath. Kirchengemeinde Mariä Himmelfahrt lädt herzlich dazu ein.\nDer Eintritt ist frei\, um Spenden wird gebeten. \n 
URL:https://dekanat-heilbronn-neckarsulm.de/veranstaltung/rising_neuenstadt/
LOCATION:Katholische Kirche zum Guten Hirten\, Neuenstadt\, Karl-Weimer-Straße 2\, Neuenstadt am Kocher\, 74196
CATEGORIES:Besondere Spirituelle Angebote,Besondere_Gottesdienste,Frauen,Musikalisches
END:VEVENT
BEGIN:VEVENT
DTSTART;TZID=Europe/Berlin:20251207T183000
DTEND;TZID=Europe/Berlin:20251207T191500
DTSTAMP:20260420T112710
CREATED:20250519T115411Z
LAST-MODIFIED:20251022T133226Z
UID:16766-1765132200-1765134900@dekanat-heilbronn-neckarsulm.de
SUMMARY:Taizé-Gebet in Kirchhausen
DESCRIPTION:Herzliche Einladung zum Taizé-Gebet am Sonntag\, 07. Dezember um 18:30 Uhr\, in die katholische Kirche St. Alban\, Heilbronn-Kirchhausen.
URL:https://dekanat-heilbronn-neckarsulm.de/veranstaltung/taize-gebet-in-kirchhausen-6/
LOCATION:Katholische Kirche St. Alban\, HN-Kirchhausen\, Schlossstraße 38\, Heilbronn-Kirchhausen\, 74078
CATEGORIES:Besondere Spirituelle Angebote,Frauen,Junge_Erwachsene,Männer,Ökumene,Senioren,Spiritualität,Taize
ATTACH;FMTTYPE=image/png:https://dekanat-heilbronn-neckarsulm.de/wp-content/uploads/2024/12/Taize_Gebet_Dekanat_Kirchhausen_Quadrat_Vorschau_Homepage.png
END:VEVENT
BEGIN:VEVENT
DTSTART;TZID=Europe/Berlin:20251212T173000
DTEND;TZID=Europe/Berlin:20251212T203000
DTSTAMP:20260420T112710
CREATED:20250715T130444Z
LAST-MODIFIED:20250715T130444Z
UID:16953-1765560600-1765571400@dekanat-heilbronn-neckarsulm.de
SUMMARY:Präventionsschulung
DESCRIPTION:Zur Anmeldung
URL:https://dekanat-heilbronn-neckarsulm.de/veranstaltung/praeventionsschulung-3/
LOCATION:Gemeindehaus\, Großallmerspann\, Kirchstraße 10\, Großallmerspann\, 74532
CATEGORIES:Bildungsangebote,Ehrenamtliche,Frauen,Hauptamtliche,Junge_Erwachsene,Kinder und Familien,Männer,Ökumene,Senioren
ATTACH;FMTTYPE=image/png:https://dekanat-heilbronn-neckarsulm.de/wp-content/uploads/2025/07/Praevention-A6-Flyer-3.png
END:VEVENT
BEGIN:VEVENT
DTSTART;TZID=Europe/Berlin:20251220T140000
DTEND;TZID=Europe/Berlin:20251220T160000
DTSTAMP:20260420T112710
CREATED:20250731T071002Z
LAST-MODIFIED:20250731T071021Z
UID:17050-1766239200-1766246400@dekanat-heilbronn-neckarsulm.de
SUMMARY:Friedenslicht aus Bethlehem auf dem Heilbronner Hauptfriedhof
DESCRIPTION:Seit 1994 verteilen deutsche Pfadfinderinnen und Pfadfinder das Friedenslicht aus Bethlehem und sorgen dafür\, dass dieses Licht an Weihnachten an vielen Orten leuchtet\, und den Menschen Hoffnung auf Frieden und in ihrer Trauer Trost gibt. \nAm Samstag\, den 20.12.2025\, 14.00 – 16.00 Uhr verteilt die STADTKIRCHE Heilbronn wieder das Friedenslicht am Haupteingangsbereich des Heilbronner Hauptfriedhofes. Friedhofsbesucher und alle Interessierten sind eingeladen das Friedenslicht aus Bethlehem abholen. Wetterfeste Lichtgefäße werden zur Verfügung gestellt.
URL:https://dekanat-heilbronn-neckarsulm.de/veranstaltung/friedenslicht-aus-bethlehem-auf-dem-heilbronner-hauptfriedhof-2/
LOCATION:Hauptfriedhof Heilbronn\, Wollhausstraße 132\, 74074 Heilbronn
CATEGORIES:Besondere Spirituelle Angebote,Eine_Welt,Frauen,Kinder und Familien,Männer,Senioren,Stadtkirche
ATTACH;FMTTYPE=image/png:https://dekanat-heilbronn-neckarsulm.de/wp-content/uploads/2025/07/Friedenslicht.png
ORGANIZER;CN="Stadtkirche Heilbronn":MAILTO:stadtkirche@katholisch-hn.de
END:VEVENT
BEGIN:VEVENT
DTSTART;TZID=Europe/Berlin:20251221T180000
DTEND;TZID=Europe/Berlin:20251221T184500
DTSTAMP:20260420T112710
CREATED:20250122T152353Z
LAST-MODIFIED:20250122T152353Z
UID:15372-1766340000-1766342700@dekanat-heilbronn-neckarsulm.de
SUMMARY:Taizé-Gebet in Höchstberg
DESCRIPTION:Wir treffen uns am Sonntag\, 21. Dezember\, von 18:00 – 18:45 Uhr in der Wallfahrtskirche Höchstberg. \nGäste sind herzlich willkommen. \n \nPlakat zum Download
URL:https://dekanat-heilbronn-neckarsulm.de/veranstaltung/taize-gebet-in-hoechstberg-11/
LOCATION:Wallfahrtskirche St. Maria Höchstberg\, Kappelweg 38\, Gundelsheim-Höchstberg\, 74831
CATEGORIES:Besondere Spirituelle Angebote,Frauen,Männer,Ökumene,Senioren,Taize
ATTACH;FMTTYPE=image/png:https://dekanat-heilbronn-neckarsulm.de/wp-content/uploads/2025/01/Taize_Gebet_Dekanat_Hoechstberg_Quadrat_Vorschau_Homepage.png
ORGANIZER;CN="Seelsorgeeinheit Krumme Ebene%2C Gundelsheim":MAILTO:StNikolaus.Gundelsheim@drs.de
END:VEVENT
BEGIN:VEVENT
DTSTART;TZID=Europe/Berlin:20251224T140000
DTEND;TZID=Europe/Berlin:20251224T160000
DTSTAMP:20260420T112710
CREATED:20251028T130034Z
LAST-MODIFIED:20251028T130119Z
UID:17362-1766584800-1766592000@dekanat-heilbronn-neckarsulm.de
SUMMARY:Weihnachtssingen im Klinikum Gesundbrunnen
DESCRIPTION:In diesem Jahr findet an Heiligabend von 14-16 Uhr wieder das öffentliche Weihnachtssingen im SLK-Klinikum am Gesundbrunnen in Heilbronn statt. \nEs ist etwas Besonderes\, an Heiligabend in einer Klinik Weihnachtslieder zu singen – und wir singen nur vertraute Weihnachtslieder. Jede und jeder kann also mitmachen. \nTreffpunkt: Eingangsbereich des Klinikums um 14 Uhr. \nEs ist keine vorausgehende Probe vorgesehen. Liedblätter sind vorhanden. Wer möchte\, kann auch ein Instrument mitbringen. Eine Anmeldung ist nicht erforderlich. Kommen Sie einfach dazu! Die Klinikseelsorge\, die Klinikleitung und vor allem unsere Patientinnen\, Patienten und Mitarbeitenden freuen sich\, wenn wieder viele dabei sind. \nKontakt für Rückfragen:\nKlinikpfarrer Siegfried Fischer\nTel.: 07131 49-40713\nMail: siegfried.fischer@slk-kliniken.de
URL:https://dekanat-heilbronn-neckarsulm.de/veranstaltung/weihnachtssingen-im-klinikum/
LOCATION:Klinikum Gesundbrunnen
CATEGORIES:Besondere Spirituelle Angebote,Frauen,Kinder und Familien,Klinikseelsorge,Krankheit,Männer,Musikalisches,Ökumene,Senioren
ATTACH;FMTTYPE=image/png:https://dekanat-heilbronn-neckarsulm.de/wp-content/uploads/2025/02/2025_Vorschau_Homepage_Klinikseelsorge.png
END:VEVENT
END:VCALENDAR