BEGIN:VCALENDAR
VERSION:2.0
PRODID:-//Dekanat Heilbronn-Neckarsulm - ECPv6.15.20//NONSGML v1.0//EN
CALSCALE:GREGORIAN
METHOD:PUBLISH
X-WR-CALNAME:Dekanat Heilbronn-Neckarsulm
X-ORIGINAL-URL:https://dekanat-heilbronn-neckarsulm.de
X-WR-CALDESC:Veranstaltungen für Dekanat Heilbronn-Neckarsulm
REFRESH-INTERVAL;VALUE=DURATION:PT1H
X-Robots-Tag:noindex
X-PUBLISHED-TTL:PT1H
BEGIN:VTIMEZONE
TZID:Europe/Berlin
BEGIN:DAYLIGHT
TZOFFSETFROM:+0100
TZOFFSETTO:+0200
TZNAME:CEST
DTSTART:20250330T010000
END:DAYLIGHT
BEGIN:STANDARD
TZOFFSETFROM:+0200
TZOFFSETTO:+0100
TZNAME:CET
DTSTART:20251026T010000
END:STANDARD
BEGIN:DAYLIGHT
TZOFFSETFROM:+0100
TZOFFSETTO:+0200
TZNAME:CEST
DTSTART:20260329T010000
END:DAYLIGHT
BEGIN:STANDARD
TZOFFSETFROM:+0200
TZOFFSETTO:+0100
TZNAME:CET
DTSTART:20261025T010000
END:STANDARD
BEGIN:DAYLIGHT
TZOFFSETFROM:+0100
TZOFFSETTO:+0200
TZNAME:CEST
DTSTART:20270328T010000
END:DAYLIGHT
BEGIN:STANDARD
TZOFFSETFROM:+0200
TZOFFSETTO:+0100
TZNAME:CET
DTSTART:20271031T010000
END:STANDARD
END:VTIMEZONE
BEGIN:VEVENT
DTSTART;TZID=Europe/Berlin:20260423T180000
DTEND;TZID=Europe/Berlin:20260423T180000
DTSTAMP:20260420T055659
CREATED:20260414T121917Z
LAST-MODIFIED:20260415T124949Z
UID:18534-1776967200-1776967200@dekanat-heilbronn-neckarsulm.de
SUMMARY:Earth Week - Naturfotografie und Vortrag
DESCRIPTION:Im Rahmen der Earth-Week\, welche die Hochschule Heilbronn vom 20. bis 24. April 2026 veranstaltet\, bietet Hochschulseelsorger Michael Dieterle am Donnerstag\, 23. April um 18:00 Uhr einen Vortragsabend an unter dem Thema: „Bruder Sonne\, Schwester Mond\, Bruder Wind\, Schwester Wasser\, Bruder Feuer – unsere bedrohten Geschwister“. Mitgestaltet wird dieser Abend von Roland Schweizer\, der den Vortrag mit seinen Naturfotografien als Diavision bereichert. Ein Gitarrist rundet den Gesamteindruck durch seine Musikstücke ab. \nDer Abend findet im T-Gebäude Am Bildungscampus 14\, 74076 Heilbronn im Raum TV 50 statt. \nAlle Interessierten sind herzlich eingeladen.
URL:https://dekanat-heilbronn-neckarsulm.de/veranstaltung/earth-week/
LOCATION:Bildungscampus
CATEGORIES:Bildungsangebote,Eine_Welt,Frauen,Gleichwert,Junge_Erwachsene,Männer,Nachhaltigkeit,Ökumene
ATTACH;FMTTYPE=image/jpeg:https://dekanat-heilbronn-neckarsulm.de/wp-content/uploads/2026/04/Post-Earth-Week.jpg
END:VEVENT
BEGIN:VEVENT
DTSTART;TZID=Europe/Berlin:20260423T183000
DTEND;TZID=Europe/Berlin:20260423T183000
DTSTAMP:20260420T055659
CREATED:20251215T085736Z
LAST-MODIFIED:20260326T151736Z
UID:17602-1776969000-1776969000@dekanat-heilbronn-neckarsulm.de
SUMMARY:Im Anfang kreativ - gemeinsam.kreativ.sein
DESCRIPTION:  \nWir laden Dich ein zu unserem neuen Angebot\, dass Dir eine Auszeit im Alltag bieten möchte. Du kannst dabei mit anderen (kreativ) sein\, ins Gespräch kommen und dir Zeit nehmen – abseits von Deadlines\, To Do Listen und Leistungsdruck. Wir möchten Dir eine gemeinsame Zeit schenken\, in der du ganz da sein kannst. Das kreative Werkeln kann Dir dabei helfen – auch dann\, wenn du bei Kunst eher zwei linke Hände hast. \nWann? Donnerstag\, 23. April 2026 ab 18:30 Uhr\nAnkommensphase mit Essen: 18:30 – 19:00 Uhr\nKreativzeit: 19:00 – ca. 21:00 Uhr \nWo? Evangelisches Gemeindehaus Dietrich-Bonhoeffer-Gemeindezentrum\, Jörg-Ratgeb-Platz 29\, Heilbronn-Sontheim \nWeitere Infos folgen in Kürze. \nWenn Du Dich zu unseren #News anmeldest\, verpasst Du keine Termine und wir halten Dich auf dem Laufenden\, wie es mit dem Angebot weiter geht. \nDas Angebot steht allen Menschen offen\, die im Stadt- und Landkreis Heilbronn wohnen\, arbeiten oder sich mit dieser Stadt verbunden sind oder einfach mal neugierig auf etwas Neues. \n\nViele Grüße schickt das Organisations-Team
URL:https://dekanat-heilbronn-neckarsulm.de/veranstaltung/gemeinsam-kreativ-sein-3/
LOCATION:Ev. Dietrich-Bonhoeffer-Gemeindezentrum\, Heilbronn-Sontheim\, Jörg-Ratgeb-Platz 29\, Heilbronn-Sontheim
CATEGORIES:Frauen,Junge_Erwachsene,Kreatives,Männer,Resilienz und Mentale Gesundheit
ATTACH;FMTTYPE=image/png:https://dekanat-heilbronn-neckarsulm.de/wp-content/uploads/2025/12/2025_Homepage_Vorschau_Quadrat_Kreativstammtisch.png
END:VEVENT
BEGIN:VEVENT
DTSTART;VALUE=DATE:20260424
DTEND;VALUE=DATE:20260425
DTSTAMP:20260420T055659
CREATED:20260415T071329Z
LAST-MODIFIED:20260415T071435Z
UID:18543-1776988800-1777075199@dekanat-heilbronn-neckarsulm.de
SUMMARY:HAB MUT\, STEH AUF! - Anmeldeschluss: Gemeinsame Fahrt zum Katholikentag
DESCRIPTION:Katholikentag vom 13.-17. Mai 2026 in Würzburg \nUnter dem Leitwort „HAB MUT\, STEH AUF!“\, einem Zitat aus dem Markusevangelium (Mk 10\,49)\, lädt das 104. Treffen dazu ein\, sich mit aktuellen gesellschaftlichen und kirchlichen Fragen auseinanderzusetzen. Themen wie Frieden und Gerechtigkeit\, Klimaschutz\, soziale Verantwortung\, Zusammenhalt in einer vielfältigen Gesellschaft und der Wandel der Kirche stehen im Mittelpunkt des Programms. \nIn der Würzburger Innenstadt und an den Ufern des Mains auf mehr als 700 Veranstaltungen können Sie erleben\, was Hoffnung macht. Spannende Podiumsdiskussionen zu den brennenden Themen der Zeit\, eine lebendige Kirche\, die Neues wagt und ausprobiert\, Workshops\, Ausstellungen\, mitreißende Konzerte und Theaterabende. Erleben Sie ein buntes Glaubens- und Kulturfestival. \nLassen Sie sich inspirieren und ermutigen: für den eigenen Glauben und die vielen kleinen Schritte\, die nötig sind\, um Gesellschaft und Kirche zu verändern. \nDenn Sitzenbleiben ist keine Option. \nHerzliche Einladung\, am Samstag\, 16.05.2026 mit uns nach Würzburg zu reisen. Weitere Informationen finden Sie auf unserem Anmeldeformular oder auf der Internetseite des Katholikentages.
URL:https://dekanat-heilbronn-neckarsulm.de/veranstaltung/hab-mut-steh-auf-anmeldeschluss-gemeinsame-fahrt-zum-katholikentag/
CATEGORIES:Ausstellungen,Bildungsangebote,Demokratie und Menschenwürde,Frauen,Junge_Erwachsene,Kinder und Familien,Literarisches,Männer,Ökumene,Reisen,Senioren
ATTACH;FMTTYPE=image/jpeg:https://dekanat-heilbronn-neckarsulm.de/wp-content/uploads/2026/04/KathTag_Wuerzburg_Anzeigen-diverse-Download_07.jpg
ORGANIZER;CN="Katholisch im Zaberg%C3%A4u":MAILTO:aufbruch@kath-kirche-zabergaeu.de
END:VEVENT
BEGIN:VEVENT
DTSTART;TZID=Europe/Berlin:20260426T180000
DTEND;TZID=Europe/Berlin:20260426T180000
DTSTAMP:20260420T055659
CREATED:20260330T085127Z
LAST-MODIFIED:20260330T085213Z
UID:18432-1777226400-1777226400@dekanat-heilbronn-neckarsulm.de
SUMMARY:Happy Birthday Rising!
DESCRIPTION:Liebe Freunde\, liebe Kirchengemeinden und Interessierte\, liebe Weggefährten\,\nin diesem Jahr heißt es für uns\nHappy Birthday Rising!\nSeit Jahren ist es uns ein großes Anliegen den christlichen Glauben lebensnah und alltagsbezogen unter die Menschen zu bringen – mit Musik\, die von Herzen kommt und Menschen berührt. Dafür bringen wir unsere persönlichen Glaubensfragen und Lebenssituationen in Liedform aufs Papier und so zu den Menschen. Wir erfahren immer wieder großen Zuspruch\, wenn auch vor kleinerem Publikum\, denn auch an uns ist der „Kirchenschwund“ nicht vorüber gegangen. Umso mehr wollen wir „dranbleiben“ und nicht müde werden den Menschen mit unserer Botschaft zu begegnen und von Mut und Zuversicht\, Hoffnung und Segen zu singen. Gerade heute sehen wir darin unseren Auftrag und ganz besonders auch noch nach 40 Jahren. \n\nUnser Geburtstagsjahr nehmen wir also zum Anlass zu einem besonderen Konzertabend einzuladen.\nWir laden Sie ganz herzlich ein zu unserem Konzert am Sonntag\, 26. April\, 18.00 Uhr nach Oedheim in die Kath. Kirche.\nRISING – 40 Jahre Wegbegleiter\, so lautet unser Jubiläumsmotto und darauf sind wir tatsächlich auch stolz\, so lange musikalisch und alltagsnah für den Glauben im Landkreis und darüber hinaus unterwegs zu sein.\nWir freuen uns\, wenn viele Gäste\, Ehemalige und Wegbegleiter mit uns diesen Abend feiern.\nIm Anschluss wollen wir mit einem kl. Sektempfang die Gelegenheit zu Gespräch\, Begegnung und Feiern geben. Es wäre schön\, wenn Sie dabei sind!\nAuf unserer Homepage finden sich unsere Liedtexte\, unsere Weggeschichte\, Hörproben sowie Pressestimmen. www.rising-oedheim.de \n 
URL:https://dekanat-heilbronn-neckarsulm.de/veranstaltung/happy-birthday-rising/
LOCATION:kath. Kirche Oedheim\, Fahrgasse 4\, Oedheim\, 74229
CATEGORIES:Ehrenamtliche,Frauen,Hauptamtliche,Jugendliche,Junge_Erwachsene,Männer,Ökumene,Senioren
ATTACH;FMTTYPE=image/jpeg:https://dekanat-heilbronn-neckarsulm.de/wp-content/uploads/2022/05/rising.jpg
END:VEVENT
BEGIN:VEVENT
DTSTART;TZID=Europe/Berlin:20260427T180000
DTEND;TZID=Europe/Berlin:20260427T190000
DTSTAMP:20260420T055659
CREATED:20260409T060247Z
LAST-MODIFIED:20260409T060314Z
UID:18493-1777312800-1777316400@dekanat-heilbronn-neckarsulm.de
SUMMARY:Die Diözese Rottenburg-Stuttgart macht sich auf den Weg.
DESCRIPTION:Gehen wir miteinander! \nIm Frühjahr 2025 haben Bischof Dr. Krämer und der Diözesanrat den Entwicklungsprozess „Kirche der Zukunft“ gestartet. Hintergrund sind zentrale Herausforderungen wie rückläufige Mitgliederzahlen\, steigende Kosten\, sinkende Finanzmittel und weniger pastorales Personal. Der Prozess umfasst aktuell die Programme\nSeelsorge in neuen Strukturen \n\nVerwaltung in neuen Strukturen\nRäume für eine Kirche der Zukunft\nDigitalstrategie\nZentrales Prozessmanagement\nOrganisationsentwicklung\n(Vorarbeiten und Programmstart 2026)\n\nBei den Online-Sprechstunden mit thematischen Schwerpunkten haben Sie nach einer kurzen inhaltlichen Einführung die Möglichkeit\, Ihre\nFragen direkt zu stellen und mit den Programm- und Projektleitungen ins Gespräch zu kommen. \nTermine und weitere Informationen finden Sie hier
URL:https://dekanat-heilbronn-neckarsulm.de/veranstaltung/die-dioezese-rottenburg-stuttgart-macht-sich-auf-den-weg-2/
LOCATION:online
CATEGORIES:Bildungsangebote,Ehrenamtliche,Frauen,Hauptamtliche,Männer,Ökumene,Online-Formate, Digitales,Senioren
END:VEVENT
BEGIN:VEVENT
DTSTART;TZID=Europe/Berlin:20260429T180000
DTEND;TZID=Europe/Berlin:20260429T203000
DTSTAMP:20260420T055659
CREATED:20250808T080759Z
LAST-MODIFIED:20260415T140524Z
UID:17092-1777485600-1777494600@dekanat-heilbronn-neckarsulm.de
SUMMARY:Canva für Plakate und Sharepics
DESCRIPTION:Praktische Programmeinführung für Einsteigerinnen und Einsteiger \nIn diesem praxisorientierten Workshop widmen wir uns der Gestaltung von Plakaten und Sharepics (Social-Media-Format aus Bild und Text) mithilfe des Programms Canva. \nWir beginnen mit einer Kurzeinführung in das Online-Tool. Anschließend erstellen wir gemeinsam eigene Plakate und lernen anhand praktischer Beispiele\, wie Canva in der Öffentlichkeitsarbeit der Kirchengemeinde oder einem Verein eingesetzt werden kann. \nBringen Sie gerne eine Idee für ein Plakat oder Sharepic mit\, das Sie vor Ort einsetzten möchten. \nDer Workshop richtet sich an Menschen\, die erste oder noch keine Erfahrungen mit der digitalen Gestaltung von Plakaten und Sharepics gemacht haben. \nSie benötigen einen Laptop und eine Maus für die Arbeit mit Canva. Erstellen Sie sich bitte vorab ein Konto. \nSteht Ihnen kein Laptop zur Verfügung oder haben Sie Probleme mit der Erstellung des Kontos haben\, wenden Sie sich bitte direkt per Mail an Sarah.Harst@drs.de. \nTermin: Mittwoch\, 29.04.2026 von 18 – 20:30 Uhr\nOrt: Pfarrhaus Neuenstadt-Kochertürn\nReferentin: Sarah Harst\, Referentin für Digitalisierung und Glaubenskommunikation im Dekanat Heilbronn-Neckarsulm \nKosten: 20\,- € (Für Ehren- und Hauptamtliche der kath. Kirche ist die Teilnahme kostenfrei.)\nAnmeldung: bei Claudia Wahl (Claudia.Wahl@drs.de oder 07139 9315193) oder Sarah Harst (Sarah.Harst@drs.de oder 07131-741-1117) \n  \nDieser Kurs findet auch demnächst wieder im Heinrich-Fries-Haus Heilbronn statt. Melden Sie sich bei Interesse bei info@keb-heilbronn.de. \nEine Kooperation der kath. Seelsorgeeinheit JaKoBuS Neuenstadt\, Möckmühl und Stein und dem Kath. Dekanat Heilbronn-Neckarsulm.
URL:https://dekanat-heilbronn-neckarsulm.de/veranstaltung/canva-fuer-plakate-und-sharepics-2/
CATEGORIES:Bildungsangebote,Digitalisierung und Glaubenskommunikation,Frauen,Männer,Senioren
ATTACH;FMTTYPE=image/jpeg:https://dekanat-heilbronn-neckarsulm.de/wp-content/uploads/2025/01/2025_Canva_Plakate_Sharepics.jpg
ORGANIZER;CN="Dekanat Heilbronn-Neckarsulm":MAILTO:kathdekanat.hn@drs.de
END:VEVENT
END:VCALENDAR