BEGIN:VCALENDAR
VERSION:2.0
PRODID:-//Dekanat Heilbronn-Neckarsulm - ECPv6.15.20//NONSGML v1.0//EN
CALSCALE:GREGORIAN
METHOD:PUBLISH
X-WR-CALNAME:Dekanat Heilbronn-Neckarsulm
X-ORIGINAL-URL:https://dekanat-heilbronn-neckarsulm.de
X-WR-CALDESC:Veranstaltungen für Dekanat Heilbronn-Neckarsulm
REFRESH-INTERVAL;VALUE=DURATION:PT1H
X-Robots-Tag:noindex
X-PUBLISHED-TTL:PT1H
BEGIN:VTIMEZONE
TZID:Europe/Berlin
BEGIN:DAYLIGHT
TZOFFSETFROM:+0100
TZOFFSETTO:+0200
TZNAME:CEST
DTSTART:20230326T010000
END:DAYLIGHT
BEGIN:STANDARD
TZOFFSETFROM:+0200
TZOFFSETTO:+0100
TZNAME:CET
DTSTART:20231029T010000
END:STANDARD
BEGIN:DAYLIGHT
TZOFFSETFROM:+0100
TZOFFSETTO:+0200
TZNAME:CEST
DTSTART:20240331T010000
END:DAYLIGHT
BEGIN:STANDARD
TZOFFSETFROM:+0200
TZOFFSETTO:+0100
TZNAME:CET
DTSTART:20241027T010000
END:STANDARD
BEGIN:DAYLIGHT
TZOFFSETFROM:+0100
TZOFFSETTO:+0200
TZNAME:CEST
DTSTART:20250330T010000
END:DAYLIGHT
BEGIN:STANDARD
TZOFFSETFROM:+0200
TZOFFSETTO:+0100
TZNAME:CET
DTSTART:20251026T010000
END:STANDARD
END:VTIMEZONE
BEGIN:VEVENT
DTSTART;TZID=Europe/Berlin:20241201T103000
DTEND;TZID=Europe/Berlin:20241201T113000
DTSTAMP:20260424T122634
CREATED:20240403T120753Z
LAST-MODIFIED:20240809T075719Z
UID:13036-1733049000-1733052600@dekanat-heilbronn-neckarsulm.de
SUMMARY:Ich wünsch dir Leben
DESCRIPTION:Segensfeier für schwangere Frauen und ihre Familien\nJedes Kind liegt Gott von jeher am Herzen\,\nund in dem Moment\, in dem es empfangen wird\,\nerfüllt sich der ewige Traum des Schöpfers.\nPapst Franziskus \nAlle\, gleich welcher Konfession\, wie nah oder fern der Kirche\, ob das Kind geplant oder ungeplant ist\, alle sind zu den Segensfeiern herzlich eingeladen. \nSchwangere\, ihre Partner und Angehörigen machen in der Zeit der Schwangerschaft ganz besondere Erfahrungen. Neues Leben wächst heran und es beansprucht seinen Platz in der Familie. Dadurch verändert sich alles\, der gesamte Alltag wird umgekrempelt\, die Beziehungen der Partner wandeln sich\nund aus dem Paar wird eine Familie. Freude und Unsicherheit begleiten diesen Wandel. \nDer Segen Gottes will in dieser Lebensphase die Mütter\, Paare und Familien stärken. Er will sie zu einem eindeutigen Ja zum Kind ermutigen und ihnen Kraft für die Geburt und die neue Lebensphase mit dem Kind (geben) vermitteln. \nUnter dem Titel „Ich wünsche dir Leben“ laden wir alle schwangeren Frauen\, ihre Partner und Angehörigen zu einer kleinen Feier ein. Sie bietet Zeit\, zur Besinnung zu kommen und gibt Raum für Innehalten und Gebet. Im Anschluss werden die Mütter und Väter und ihre Angehörigen gesegnet und mit Gottes Beistand in die neue Lebensphase entlassen.
URL:https://dekanat-heilbronn-neckarsulm.de/veranstaltung/ich-wuensch-dir-leben-4/
LOCATION:Katholische Kirche St. Augustinus\, Heilbronn\, Goethestraße 75\, Heilbronn
CATEGORIES:Schwangerschaft und Geburt
ORGANIZER;CN="Katholische Kirchengemeinde St. Augustinus%2C Heilbronn":MAILTO:StAugustinus.Heilbronn@drs.de
END:VEVENT
END:VCALENDAR